BEGIN:VCALENDAR
VERSION:2.0
PRODID:-//ChamberMaster//Event Calendar 2.0//EN
METHOD:PUBLISH
X-PUBLISHED-TTL:P3D
REFRESH-INTERVAL:P3D
CALSCALE:GREGORIAN
BEGIN:VEVENT
DTSTART:20180915T140000Z
DTEND:20180915T230000Z
X-MICROSOFT-CDO-ALLDAYEVENT:FALSE
SUMMARY:Lake Sylvia State Park Fall Festival
DESCRIPTION:Gearing up for another year at the Lake Sylvia Fall Festival! If you would like to volunteer to help us with this project\, we would love to hear from you! We will need all kinds of helpers\, including photographers\, artists market unloading and loading assistance\, race monitors\, kiosk monitors\, bus drivers\, kyak paddle helpers\, and more. We have a great time putting on this event. Contact us through Facebook or contact Candi Bachtell or Trina Young. Message us for contact info. The Festival will be held this year on Saturday\, September 15th. Artist Vendor applications available athttps://www.dropbox.com/preview/2018%20Links%20to%20Fall%20Festival%20Participant%20Applications.docx?role=personal
X-ALT-DESC;FMTTYPE=text/html:<span style="color: rgb(75\, 79\, 86)\; font-family: Helvetica\, Arial\, sans-serif\; font-size: 14px\; background-color: rgb(255\, 255\, 255)\;">Gearing up for another year at the Lake Sylvia Fall Festival! If you would like to volunteer to help us with this project\, we would love to hear from you! We will need all kinds of helpers\, including photographers\, artists market unloading and loading assistance\, race monitors\, kiosk monitors\, bus drivers\, kyak paddle helpers\, and more. We have a great time putting on this event. Contact us through Facebook or contact Candi Bachtell or Trina Young. Message us for contact info. The Festival will be held this year on Saturday\, September 15th. Artist Vendor applications available </span><span style="color: rgb(75\, 79\, 86)\; font-family: Helvetica\, Arial\, sans-serif\; font-size: 14px\; background-color: rgb(255\, 255\, 255)\;">at</span><a data-lynx-mode="asynclazy" data-lynx-uri="https://l.facebook.com/l.php?u=https%3A%2F%2Fwww.dropbox.com%2Fpreview%2F2018%2520Links%2520to%2520Fall%2520Festival%2520Participant%2520Applications.docx%3Frole%3Dpersonal&amp\;h=ATNfWWW7kkfH1_XAmU4nf259ddRob2EYNy2FWozXAX-rU1yIEz_w2KY6GdqFtgv5Uj33hFjyTVgBSUWnlA0N_V-nCd0uqxeiUF_ozteX_R0q6DQPCDJ8JoWeDFcYglY8X1mAYbM6tbEKib2Klw" href="https://www.dropbox.com/preview/2018%20Links%20to%20Fall%20Festival%20Participant%20Applications.docx?role=personal" rel="nofollow noopener" style="color: rgb(54\, 88\, 153)\; cursor: pointer\; text-decoration-line: none\; font-family: Helvetica\, Arial\, sans-serif\; font-size: 14px\; background-color: rgb(255\, 255\, 255)\;" target="_blank"><span style="font-family: inherit\;">https</span></a><a data-lynx-mode="asynclazy" data-lynx-uri="https://l.facebook.com/l.php?u=https%3A%2F%2Fwww.dropbox.com%2Fpreview%2F2018%2520Links%2520to%2520Fall%2520Festival%2520Participant%2520Applications.docx%3Frole%3Dpersonal&amp\;h=ATNfWWW7kkfH1_XAmU4nf259ddRob2EYNy2FWozXAX-rU1yIEz_w2KY6GdqFtgv5Uj33hFjyTVgBSUWnlA0N_V-nCd0uqxeiUF_ozteX_R0q6DQPCDJ8JoWeDFcYglY8X1mAYbM6tbEKib2Klw" href="https://www.dropbox.com/preview/2018%20Links%20to%20Fall%20Festival%20Participant%20Applications.docx?role=personal" rel="nofollow noopener" style="color: rgb(54\, 88\, 153)\; cursor: pointer\; text-decoration-line: none\; font-family: Helvetica\, Arial\, sans-serif\; font-size: 14px\; background-color: rgb(255\, 255\, 255)\;" target="_blank"><span style="font-family: inherit\;">://www.dropbox.com/</span><wbr /><span style="font-family: inherit\;">preview/</span><wbr /><span style="font-family: inherit\;">2018%20Links%20to%20Fall%</span><span style="font-family: inherit\;">20</span><wbr /><span style="font-family: inherit\;">Festival</span><span style="font-family: inherit\;">%20Participant%20A</span><wbr /><span style="font-family: inherit\;">pplications.docx?role=pers</span><wbr />onal</a>
LOCATION:Lake Sylvia State Park
UID:e.26.9533
SEQUENCE:3
DTSTAMP:20260425T015725Z
URL:https://chamber.graysharbor.org/events/details/lake-sylvia-state-park-fall-festival-9533
END:VEVENT

END:VCALENDAR
