BEGIN:VCALENDAR
VERSION:2.0
PRODID:-//ChamberMaster//Event Calendar 2.0//EN
METHOD:PUBLISH
X-PUBLISHED-TTL:P3D
REFRESH-INTERVAL:P3D
CALSCALE:GREGORIAN
BEGIN:VEVENT
DTSTART:20201108T190000Z
DTEND:20201108T220000Z
X-MICROSOFT-CDO-ALLDAYEVENT:FALSE
SUMMARY:Laura's Market November Pop-Up
DESCRIPTION:Produce and goods!\n\nSpecial Note: Laura has declared that November is her month of blessings. She has decided that 100% of her proceeds earned for November will be donated to three local non-profits. Customer's choice where their money is directed. Her selected non-profits are very close to her heart.\n\nProceed recipients to include:\n\n- The Montesano Community Center\n\n- Grays Harbor County 4-H\n\n- PAWS of Grays Harbor
X-ALT-DESC;FMTTYPE=text/html:<div dir="auto" style="font-family: system-ui\, -apple-system\, BlinkMacSystemFont\, &quot\;.SFNSText-Regular&quot\;\, sans-serif\; caret-color: rgb(5\, 5\, 5)\; color: rgb(5\, 5\, 5)\; font-size: 15px\; white-space: pre-wrap\;">Produce and goods!</div>\n\n<div dir="auto" style="font-family: system-ui\, -apple-system\, BlinkMacSystemFont\, &quot\;.SFNSText-Regular&quot\;\, sans-serif\; caret-color: rgb(5\, 5\, 5)\; color: rgb(5\, 5\, 5)\; font-size: 15px\; white-space: pre-wrap\;">Special Note: Laura has declared that November is her month of blessings. She has decided that 100% of her proceeds earned for November will be donated to three local non-profits. Customer&#39\;s choice where their money is directed. Her selected non-profits are very close to her heart.</div>\n\n<div dir="auto" style="font-family: system-ui\, -apple-system\, BlinkMacSystemFont\, &quot\;.SFNSText-Regular&quot\;\, sans-serif\; caret-color: rgb(5\, 5\, 5)\; color: rgb(5\, 5\, 5)\; font-size: 15px\; white-space: pre-wrap\;">Proceed recipients to include:</div>\n\n<div dir="auto" style="font-family: system-ui\, -apple-system\, BlinkMacSystemFont\, &quot\;.SFNSText-Regular&quot\;\, sans-serif\; caret-color: rgb(5\, 5\, 5)\; color: rgb(5\, 5\, 5)\; font-size: 15px\; white-space: pre-wrap\;">- The Montesano Community Center</div>\n\n<div dir="auto" style="font-family: system-ui\, -apple-system\, BlinkMacSystemFont\, &quot\;.SFNSText-Regular&quot\;\, sans-serif\; caret-color: rgb(5\, 5\, 5)\; color: rgb(5\, 5\, 5)\; font-size: 15px\; white-space: pre-wrap\;">- Grays Harbor County 4-H</div>\n\n<div dir="auto" style="font-family: system-ui\, -apple-system\, BlinkMacSystemFont\, &quot\;.SFNSText-Regular&quot\;\, sans-serif\; caret-color: rgb(5\, 5\, 5)\; color: rgb(5\, 5\, 5)\; font-size: 15px\; white-space: pre-wrap\;">- PAWS of Grays Harbor</div>\n
LOCATION:625 Monte Elma Rd Montesano
UID:e.26.12535
SEQUENCE:3
DTSTAMP:20260424T060320Z
URL:https://chamber.graysharbor.org/events/details/laura-s-market-november-pop-up-12535
END:VEVENT

END:VCALENDAR
