BEGIN:VCALENDAR
VERSION:2.0
PRODID:-//ChamberMaster//Event Calendar 2.0//EN
METHOD:PUBLISH
X-PUBLISHED-TTL:P3D
REFRESH-INTERVAL:P3D
CALSCALE:GREGORIAN
BEGIN:VEVENT
DTSTART:20221029T000000Z
DTEND:20221029T040000Z
X-MICROSOFT-CDO-ALLDAYEVENT:FALSE
SUMMARY:Leader's Banquet & Business Recognition Awards - By Land and By Sea\, Celebrating Grays Harbor Businesses
DESCRIPTION:Join Greater Grays Harbor\, Inc. (GGHI) for the return of the highly anticipated Leader's Banquet & Business Recognition Awards on Friday\, October 28th\, 2022! The Leader's Banquet serves as GGHI's annual opportunity to recognize business success in Grays Harbor and present the following awards: GGHI Ambassador\, Non-Profit\, Small Business\, New Business\, Large Business\, and lastly\, the coveted Business of the Year.\n\n \n\nThe theme of this year's event is: "By Land and By Sea\, Celebrating Grays Harbor Businesses." There will also be a live auction as well as an opportunity to contribute the the GGHI Educational Fund. \n\n\n\nAll tickets include a surf and turf dinner. There will also be a no-host bar on-site. \n\n \n\nThe Leader's Banquet website is now live! This website serves as the central place for guests to purchase their tickets or table\, preview live auction items that will be up for bid\, and learn more about the overall event and what to expect. View the website here!\n\n \n\nInterested in sponsoring the Leader's Banquet & Business Recognition Awards? Contact Stephanie Conway sconway@graysharbor.org or (360) 532-7888.
X-ALT-DESC;FMTTYPE=text/html:<p style="margin: 0px\; font-stretch: normal\; font-size: 12px\; line-height: normal\; font-family: &quot\;Helvetica Neue&quot\;\;"><span style="font-size:16px\;"><span style="font-family:arial\;">Join Greater Grays Harbor\, Inc. (GGHI) for the return of the highly anticipated Leader&#39\;s Banquet &amp\; Business Recognition Awards on Friday\, October 28th\, 2022! The Leader&#39\;s Banquet serves as GGHI&#39\;s annual opportunity to recognize business success in Grays Harbor and present the following awards: GGHI Ambassador\, Non-Profit\, Small Business\, New Business\,&nbsp\;Large Business\, and lastly\, the coveted Business of the Year.</span></span></p>\n\n<p style="margin: 0px\; font-stretch: normal\; font-size: 12px\; line-height: normal\; font-family: &quot\;Helvetica Neue&quot\;\; min-height: 14px\;">&nbsp\;</p>\n\n<p style="margin: 0px\; font-stretch: normal\; font-size: 12px\; line-height: normal\; font-family: &quot\;Helvetica Neue&quot\;\;"><span style="font-size:16px\;"><span style="font-family:arial\;">The theme of this year&#39\;s event is: &quot\;By Land and By Sea\, Celebrating Grays Harbor Businesses.&quot\; There will also be a live auction as well as an opportunity to contribute the the GGHI Educational Fund.&nbsp\;<br />\n<br />\nAll tickets include a surf and turf dinner. There will also be a no-host bar on-site.&nbsp\;</span></span></p>\n\n<p style="margin: 0px\; font-stretch: normal\; font-size: 12px\; line-height: normal\; font-family: &quot\;Helvetica Neue&quot\;\; min-height: 14px\;">&nbsp\;</p>\n\n<p style="margin: 0px\; font-stretch: normal\; font-size: 12px\; line-height: normal\; font-family: &quot\;Helvetica Neue&quot\;\;"><span style="font-size:16px\;"><span style="font-family:arial\;"><em>The Leader&#39\;s Banquet website is now live!</em> This website serves as the central place for guests to purchase their tickets or table\, preview live auction items that will be up for bid\, and learn more about the overall event and what to expect. <strong><a href="https://leadersbanquet.afrogs.org/"><span style="color:#FF0000\;">View the website here!</span></a></strong></span></span></p>\n\n<p style="margin: 0px\; font-stretch: normal\; font-size: 12px\; line-height: normal\; font-family: &quot\;Helvetica Neue&quot\;\; min-height: 14px\;">&nbsp\;</p>\n\n<p style="margin: 0px\; font-stretch: normal\; font-size: 12px\; line-height: normal\; font-family: &quot\;Helvetica Neue&quot\;\;"><span style="font-size:16px\;"><span style="font-family:arial\;"><b>Interested in sponsoring the Leader&#39\;s Banquet &amp\; Business Recognition Awards? Contact Stephanie Conway <a href="mailto:sconway@graysharbor.org?subject=Leader's%20Banquet%20Sponsorships">sconway@graysharbor.org</a> or (360) 532-7888.</b></span></span></p>\n
LOCATION:Ocean Shores Convention Center
UID:e.26.13649
SEQUENCE:3
DTSTAMP:20260423T210143Z
URL:https://chamber.graysharbor.org/events/details/leader-s-banquet-business-recognition-awards-by-land-and-by-sea-celebrating-grays-harbor-businesses-13649
END:VEVENT

END:VCALENDAR
