BEGIN:VCALENDAR
VERSION:2.0
PRODID:-//ChamberMaster//Event Calendar 2.0//EN
METHOD:PUBLISH
X-PUBLISHED-TTL:P3D
REFRESH-INTERVAL:P3D
CALSCALE:GREGORIAN
BEGIN:VEVENT
DTSTART:20181013T003000Z
DTEND:20181013T040000Z
X-MICROSOFT-CDO-ALLDAYEVENT:FALSE
SUMMARY:Leaders Banquet & Business Recognition Awards
DESCRIPTION:The annual Leaders Banquet & Business Recognition Awards is quickly approaching\, and we cordially invite YOU to help us celebrate and recognize the leaders in Grays Harbor.\n\n \n\nPrior to the event\, we asked the Grays Harbor community to nominate who they thought was the most deserving of the following awards: Small Business\, Non-Profit\, New Businessand Large Business of the Year.\n\n \n\nThe winner's of each category will be announced during the Leaders Banquet & Business Recognition Awards on the night of Friday\, October 12th from 5:30pm - 7:30pm.\n\n \n\nIf your business or organization is a table host at the event\, the theme of this year's banquet is 'Once Upon A Time... What's Your Story?' We encourage you to decorate your table in accordance with the theme\, telling the unique story about your business or organizations' journey from past to present in Grays Harbor.\n\nWe hope to see you there!\n\n \n\n**Please note\, if you wish to attend\, the admission cost of $65 will raise to $75 after October 5th. Call GGHI today at (360) 532-7888 to reserve your place.**
X-ALT-DESC;FMTTYPE=text/html:<p style="margin: 0px\; padding: 0px\; color: rgb(94\, 94\, 94)\; font-family: &quot\;Open Sans&quot\;\, &quot\;Lucida Grande&quot\;\, arial\, sans-serif\; font-size: 15px\; background-color: rgb(233\, 233\, 233)\;">The annual<em style="font-weight: inherit\;">&nbsp\;Leaders Banquet &amp\; Business Recognition Awards</em>&nbsp\;is quickly approaching\, and we cordially invite<span style="font-style: inherit\; font-weight: 700\;">&nbsp\;YOU&nbsp\;</span>to help us celebrate and recognize the leaders in Grays Harbor.</p>\n\n<p style="margin: 0px\; padding: 0px\; color: rgb(94\, 94\, 94)\; font-family: &quot\;Open Sans&quot\;\, &quot\;Lucida Grande&quot\;\, arial\, sans-serif\; font-size: 15px\; background-color: rgb(233\, 233\, 233)\;">&nbsp\;</p>\n\n<p style="margin: 0px\; padding: 0px\; color: rgb(94\, 94\, 94)\; font-family: &quot\;Open Sans&quot\;\, &quot\;Lucida Grande&quot\;\, arial\, sans-serif\; font-size: 15px\; background-color: rgb(233\, 233\, 233)\;">Prior to the event\, we asked the Grays Harbor community to nominate who they thought was the most deserving of the following awards:&nbsp\;<em style="font-weight: inherit\;">Small Business\, Non-Profit\, New Business</em>and<em style="font-weight: inherit\;">&nbsp\;Large Business of the Year.</em></p>\n\n<p style="margin: 0px\; padding: 0px\; color: rgb(94\, 94\, 94)\; font-family: &quot\;Open Sans&quot\;\, &quot\;Lucida Grande&quot\;\, arial\, sans-serif\; font-size: 15px\; background-color: rgb(233\, 233\, 233)\; text-align: center\;">&nbsp\;</p>\n\n<p style="margin: 0px\; padding: 0px\; color: rgb(94\, 94\, 94)\; font-family: &quot\;Open Sans&quot\;\, &quot\;Lucida Grande&quot\;\, arial\, sans-serif\; font-size: 15px\; background-color: rgb(233\, 233\, 233)\; text-align: center\;">The winner&#39\;s of each category will be announced during the Leaders Banquet &amp\; Business Recognition Awards on the night of Friday\, October 12th from 5:30pm - 7:30pm.</p>\n\n<p style="margin: 0px\; padding: 0px\; color: rgb(94\, 94\, 94)\; font-family: &quot\;Open Sans&quot\;\, &quot\;Lucida Grande&quot\;\, arial\, sans-serif\; font-size: 15px\; background-color: rgb(233\, 233\, 233)\; text-align: center\;">&nbsp\;</p>\n\n<p style="margin: 0px\; padding: 0px\; color: rgb(94\, 94\, 94)\; font-family: &quot\;Open Sans&quot\;\, &quot\;Lucida Grande&quot\;\, arial\, sans-serif\; font-size: 15px\; background-color: rgb(233\, 233\, 233)\; text-align: center\;">If your business or organization is a table host at the event\, the theme of this year&#39\;s banquet is<span style="font-style: inherit\; font-weight: 700\;">&nbsp\;&#39\;Once Upon A Time... What&#39\;s Your Story?&#39\;</span><span style="font-style: inherit\; font-weight: 700\;">&nbsp\;</span>We encourage you to decorate your table in accordance with the theme\, telling the unique story about&nbsp\;<em style="font-weight: inherit\;">your</em>&nbsp\;business or organizations&#39\; journey from past to present in Grays Harbor.</p>\n\n<p style="margin: 0px\; padding: 0px\; color: rgb(94\, 94\, 94)\; font-family: &quot\;Open Sans&quot\;\, &quot\;Lucida Grande&quot\;\, arial\, sans-serif\; font-size: 15px\; background-color: rgb(233\, 233\, 233)\; text-align: center\;">We hope to see you there!</p>\n\n<p style="margin: 0px\; padding: 0px\; color: rgb(94\, 94\, 94)\; font-family: &quot\;Open Sans&quot\;\, &quot\;Lucida Grande&quot\;\, arial\, sans-serif\; font-size: 15px\; background-color: rgb(233\, 233\, 233)\; text-align: center\;">&nbsp\;</p>\n\n<p style="margin: 0px\; padding: 0px\; color: rgb(94\, 94\, 94)\; font-family: &quot\;Open Sans&quot\;\, &quot\;Lucida Grande&quot\;\, arial\, sans-serif\; font-size: 15px\; background-color: rgb(233\, 233\, 233)\; text-align: center\;"><em style="font-weight: inherit\;">**Please note\, if you wish to attend\, the admission cost of $65 will raise to $75 after October 5th. Call GGHI today at (360) 532-7888 to reserve your place.**</em></p>\n
LOCATION:Quinault Beach Resort and Casnio Ocean Shores\, WA
UID:e.26.11192
SEQUENCE:3
DTSTAMP:20260425T015732Z
URL:https://chamber.graysharbor.org/events/details/leaders-banquet-business-recognition-awards-11192
END:VEVENT

END:VCALENDAR
