BEGIN:VCALENDAR
VERSION:2.0
PRODID:-//ChamberMaster//Event Calendar 2.0//EN
METHOD:PUBLISH
X-PUBLISHED-TTL:P3D
REFRESH-INTERVAL:P3D
CALSCALE:GREGORIAN
BEGIN:VEVENT
DTSTART:20210505T203000Z
DTEND:20210505T213000Z
X-MICROSOFT-CDO-ALLDAYEVENT:FALSE
SUMMARY:Leaders Event Keynote Speaker: Commissioner of Public Lands\, Hilary Franz
DESCRIPTION:Greater Grays Harbor\, Inc. (GGHI) is excited to announce that Hilary Franz\, Commissioner of Public Lands will be a keynote speaker in conjunction with the upcoming GGHI Virtual Community Auction. Franz will discuss her agency and its major initiatives and impacts on rural economies.Representative Mike Chapman from the 24th Legislative District will moderate the discussion.\n\n\n\nGGHI's Virtual Community Auction will open on May 3rd and close on May 17th. Hilary Franz and Mike Chapman are scheduled to present on May 5th.
X-ALT-DESC;FMTTYPE=text/html:<span style="font-size:14px\;">Greater Grays Harbor\, Inc. (GGHI) is excited to announce that <a href="https://hilaryfranz.com" style="font-size: 14px\;">Hilary Franz</a>\, Commissioner of Public Lands will be a keynote speaker in conjunction with the upcoming GGHI Virtual Community Auction.&nbsp\;<span style="caret-color: rgb(28\, 30\, 33)\; color: rgb(28\, 30\, 33)\; font-family: system-ui\, -apple-system\, BlinkMacSystemFont\, &quot\;.SFNSText-Regular&quot\;\, sans-serif\;">Franz will discuss her agency and its major initiatives and impacts on rural economies.</span><a data-link-type="web" href="https://housedemocrats.wa.gov/chapman/" rel="noopener noreferrer" style="font-size: 16px\; font-family: Roboto\, sans-serif\; color: rgb(54\, 138\, 156)\; white-space: pre-wrap\;" target="_blank">Representative Mike Chapman</a><font color="#1d1c1d" style="font-size: 14px\;"><span style="white-space: pre-wrap\;"> from the 24th Legislative District will moderate the discussion.<br />\n<br />\nGGHI&#39\;s Virtual Community</span>&nbsp\;Auction will open on May 3rd and close on May 17th. Hilary Franz and Mike Chapman are scheduled to present on May 5th.&nbsp\;</font></span>
LOCATION:Online via Zoom Webinar Registered guests will receive the log-in information the morning of the event. Please register no later than 5/4/21.
UID:e.26.12602
SEQUENCE:3
DTSTAMP:20260424T104831Z
URL:https://chamber.graysharbor.org/events/details/leaders-event-keynote-speaker-commissioner-of-public-lands-hilary-franz-12602
END:VEVENT

END:VCALENDAR
