BEGIN:VCALENDAR
VERSION:2.0
PRODID:-//ChamberMaster//Event Calendar 2.0//EN
METHOD:PUBLISH
X-PUBLISHED-TTL:P3D
REFRESH-INTERVAL:P3D
CALSCALE:GREGORIAN
BEGIN:VEVENT
DTSTART:20191231T160000Z
DTEND:20200101T010000Z
X-MICROSOFT-CDO-ALLDAYEVENT:FALSE
SUMMARY:Leadership Grays Harbor Sign-Up Deadline
DESCRIPTION:BUILDING THE CLASS OF 2020 \n\n\nLeadership Grays Harbor is a civic\, professional development program based on key leadership principles. The program works to connect people from various industries and backgrounds to grow as leaders\, while learning more about the Grays Harbor community.\n\nSince 2016\, Greater Grays Harbor has partnered with Grays Harbor College to administer and facilitate this leadership program. The curriculum is experience-based and explores issues affecting our community through meetings and discussions with established leaders\, site visits\, individual projects and other activities.\n\n \n\nThis program helps attendees develop their personal leadership skills in an intensive six month program. Meetings will take place on the second Thursday of each month\, with the first meeting taking place on January 9th\, 2020 from 9am - 5pm. Classes will conclude on June 11th\, 2020.\n\n \n\nParticipants leave with knowledge on how to make a positive impact in their community\, in their professions and in their personal lives. Leadership Grays Harbor has produced over 450 graduates\, from local businesses\, non-profits and government backgrounds.\n\n \n\nThe deadline to sign up is Tuesday\, December 31st. Please contact the GGHI office to learn more about the cost\, timeline and receive an application and acknowledgements of risk form. \n\nIf you have any questions please call Candie Gleason at 360-532-7888 or email her at candie@graysharbor.org
X-ALT-DESC;FMTTYPE=text/html:<h2 class="theme-p-title theme-color3" data-clicktarget="#" data-target="title" style="margin: 0px\; padding: 5px 0px 10px\; font-size: 2.5em\; word-wrap: break-word\; text-transform: uppercase\; font-family: sm_pluto-5n\, Arial\, sans-serif\; color: rgb(13\, 71\, 161)\;"><span style="font-size:14px\;"><span style="font-family:arial\;">BUILDING THE CLASS OF 2020&nbsp\;</span></span></h2>\n\n<div class="theme-p theme-color-4" data-target="content" style="margin: 0px\; padding: 0px 0px 12px\; font-family: Roboto\, &quot\;Lucida Grande&quot\;\, arial\, sans-serif\; line-height: 1.55\; font-size: 1.5em\; word-wrap: break-word\; color: rgb(94\, 94\, 94)\;">\n<p style="margin: 0px\; padding: 0px\;"><span style="font-size:14px\;"><span style="font-family:arial\;"><a data-id="l-1590718037" href="https://graysharbor.org/programs/leadership-grays-harbor/" rel="nofollow" style="cursor: pointer\; color: rgb(28\, 110\, 152)\;" target="_blank">Leadership Grays Harbor</a>&nbsp\;is a civic\, professional development program based on key leadership principles. The program works to connect people from various industries and backgrounds to grow as leaders\, while learning more about the Grays Harbor community.</span></span></p>\n\n<p style="margin: 0px\; padding: 0px\;"><span style="font-size:14px\;"><span style="font-family:arial\;">Since 2016\,&nbsp\;<a data-id="l-4304056405" href="https://graysharbor.org/" rel="nofollow" style="cursor: pointer\; color: rgb(28\, 110\, 152)\;" target="_blank">Greater Grays Harbor</a>&nbsp\;has partnered with&nbsp\;<a data-id="l-3222587692" href="https://www.ghc.edu/" rel="nofollow" style="cursor: pointer\; color: rgb(28\, 110\, 152)\;" target="_blank">Grays Harbor College</a>&nbsp\;to administer and facilitate this leadership program. The curriculum is experience-based and explores issues affecting our community through meetings and discussions with established leaders\, site visits\, individual projects and other activities.</span></span></p>\n\n<p style="margin: 0px\; padding: 0px\;">&nbsp\;</p>\n\n<p style="margin: 0px\; padding: 0px\;"><span style="font-size:14px\;"><span style="font-family:arial\;">This program helps attendees develop their personal leadership skills in an intensive six month program. Meetings will take place on the second Thursday of each month\, with the first meeting taking place on January 9th\, 2020 from 9am - 5pm. Classes will conclude on June 11th\, 2020.</span></span></p>\n\n<p style="margin: 0px\; padding: 0px\;">&nbsp\;</p>\n\n<p style="margin: 0px\; padding: 0px\;"><span style="font-size:14px\;"><span style="font-family:arial\;">Participants leave with knowledge on how to make a positive impact in their community\, in their professions and in their personal lives. Leadership Grays Harbor has produced over 450 graduates\, from local businesses\, non-profits and government backgrounds.</span></span></p>\n\n<p style="margin: 0px\; padding: 0px\;">&nbsp\;</p>\n\n<p style="margin: 0px\; padding: 0px\;"><span style="font-size:14px\;"><span style="font-family:arial\;"><u>The deadline to sign up is Tuesday\, December 31st</u>. Please contact the GGHI office to learn more about the cost\, timeline and receive an application and acknowledgements of risk form.&nbsp\;</span></span></p>\n\n<p style="margin: 0px\; padding: 0px\;"><span style="font-size:14px\;"><span style="font-family:arial\;">If you have any questions please call Candie Gleason at&nbsp\;<span style="font-style: inherit\; font-weight: 700\;">360-532-7888</span>&nbsp\;or email her at&nbsp\;<a data-id="l-6882875445" href="mailto:candie@graysharbor.org" rel="nofollow" style="cursor: pointer\; color: rgb(28\, 110\, 152)\;" target="_blank">candie@graysharbor.org</a></span></span></p>\n</div>\n
LOCATION:
UID:e.26.12294
SEQUENCE:3
DTSTAMP:20260424T000417Z
URL:https://chamber.graysharbor.org/events/details/leadership-grays-harbor-sign-up-deadline-12294
END:VEVENT

END:VCALENDAR
