BEGIN:VCALENDAR
VERSION:2.0
PRODID:-//ChamberMaster//Event Calendar 2.0//EN
METHOD:PUBLISH
X-PUBLISHED-TTL:P3D
REFRESH-INTERVAL:P3D
CALSCALE:GREGORIAN
BEGIN:VEVENT
DTSTART:20200229T160000Z
DTEND:20200229T190000Z
X-MICROSOFT-CDO-ALLDAYEVENT:FALSE
SUMMARY:Leap Day 5k
DESCRIPTION:Join Aberdeen Young Mothers for our first ever Leap Day 5k! We are partnering with the City of Aberdeen to build a park in Aberdeen\, and all the proceeds go toward this goal! If you register online before February 19th\, you'll get a shirt. If you register after\, you are not guaranteed a shirt in your size. \n\n\n\nAlso\, we'll have Finch and Bull food truck there to serve you some brunch after you're famished from running or walking the 5k! They take cash or card! :) \n\n\n\nCan't wait to see you there to help support this community!!
X-ALT-DESC;FMTTYPE=text/html:<span style="font-size:14px\;"><span style="font-family:arial\;"><span style="caret-color: rgb(29\, 33\, 41)\; color: rgb(29\, 33\, 41)\; white-space: pre-wrap\;">Join Aberdeen Young Mothers for our first ever Leap Day 5k! We are partnering with the City of Aberdeen to build a park in Aberdeen\, and all the proceeds go toward this goal! If you register online before February 19th\, you&rsquo\;ll get a shirt. If you register after\, you are not guaranteed a shirt in your size. </span><br style="caret-color: rgb(29\, 33\, 41)\; color: rgb(29\, 33\, 41)\; font-family: system-ui\, -apple-system\, BlinkMacSystemFont\, &quot\;.SFNSText-Regular&quot\;\, sans-serif\; font-size: 14px\; white-space: pre-wrap\;" />\n<br style="caret-color: rgb(29\, 33\, 41)\; color: rgb(29\, 33\, 41)\; font-family: system-ui\, -apple-system\, BlinkMacSystemFont\, &quot\;.SFNSText-Regular&quot\;\, sans-serif\; font-size: 14px\; white-space: pre-wrap\;" />\n<span style="caret-color: rgb(29\, 33\, 41)\; color: rgb(29\, 33\, 41)\; white-space: pre-wrap\;">Also\, we&rsquo\;ll have Finch and Bull food truck there to serve you some brunch after you&rsquo\;re famished from running or walking the 5k! They take cash or card! :) </span><br style="caret-color: rgb(29\, 33\, 41)\; color: rgb(29\, 33\, 41)\; font-family: system-ui\, -apple-system\, BlinkMacSystemFont\, &quot\;.SFNSText-Regular&quot\;\, sans-serif\; font-size: 14px\; white-space: pre-wrap\;" />\n<br style="caret-color: rgb(29\, 33\, 41)\; color: rgb(29\, 33\, 41)\; font-family: system-ui\, -apple-system\, BlinkMacSystemFont\, &quot\;.SFNSText-Regular&quot\;\, sans-serif\; font-size: 14px\; white-space: pre-wrap\;" />\n<span style="caret-color: rgb(29\, 33\, 41)\; color: rgb(29\, 33\, 41)\; white-space: pre-wrap\;">Can&rsquo\;t wait to see you there to help support this community!! </span></span></span>
LOCATION:pin Bishop Athletic Complex 230 State Route 105\, Aberdeen\, Washington 98520
UID:e.26.12413
SEQUENCE:3
DTSTAMP:20260424T041822Z
URL:https://chamber.graysharbor.org/events/details/leap-day-5k-12413
END:VEVENT

END:VCALENDAR
