BEGIN:VCALENDAR
VERSION:2.0
PRODID:-//ChamberMaster//Event Calendar 2.0//EN
METHOD:PUBLISH
X-PUBLISHED-TTL:P3D
REFRESH-INTERVAL:P3D
CALSCALE:GREGORIAN
BEGIN:VEVENT
DTSTART:20180119T023000Z
DTEND:20180119T043000Z
X-MICROSOFT-CDO-ALLDAYEVENT:FALSE
SUMMARY:Lecture: Exploring the Quinault Canyon
DESCRIPTION:Glimpses Winter Lecture Series: Exploring the Quinault Canyon with Joe Schumacker. $10 at the door. \n\n\n\nJoe will discuss the ROV exploration of the ocean floor that took place this summer off our our coast. \n\n\n\nThe EV Nautilus\, carries two Remotely Operated Vehicles. A grant allowed for four days of exploration in the Quinault Canyon off the shores of Washington State\, where they mapped ocean floor terrain\, sampled for ocean acidification\, and looked at methane seeps and deep water organisms. Joe Schumacker and Olympic National Marine Sanctuary coordinated with the ship during this time\, and in this presentation Joe will share information\, photos\, and video footage.\n\n \n\nJoe Schumacker has been working with the Quinault Indian Nation on the west coast of Washington State for sixteen years. During that time he has managed many of the tribe's fisheries including salmon\, groundfish and shellfish. Joe has been an active participant for the Quinault Nation at the Pacific Fisheries Management Council and has worked with all of the Washington coastal tribes on marine science issues including\; benthic habitat characterization\, harmful algal blooms and toxin analysis\, improving fisheries assessments off the Washington coast\, improving management of coastal crab fisheries and assessments of intertidal coastal habitat. Joe has represented the Quinault Nation on the Grays Harbor Marine Resources Committee (GH MRC)\, Olympic Coast National Marine Sanctuary Advisory Council and the Intergovernmental Policy Council (IPC) working with the Sanctuar
X-ALT-DESC;FMTTYPE=text/html:<span style="color: rgb(75\, 79\, 86)\; font-family: Helvetica\, Arial\, sans-serif\; font-size: 14px\; background-color: rgb(255\, 255\, 255)\;">Glimpses Winter Lecture Series: Exploring the Quinault Canyon with Joe Schumacker. $10 at the door.&nbsp\;</span><br style="color: rgb(75\, 79\, 86)\; font-family: Helvetica\, Arial\, sans-serif\; font-size: 14px\; background-color: rgb(255\, 255\, 255)\;" />\n<br style="color: rgb(75\, 79\, 86)\; font-family: Helvetica\, Arial\, sans-serif\; font-size: 14px\; background-color: rgb(255\, 255\, 255)\;" />\n<span style="color: rgb(75\, 79\, 86)\; font-family: Helvetica\, Arial\, sans-serif\; font-size: 14px\; background-color: rgb(255\, 255\, 255)\;">Joe will discuss the ROV exploration of the ocean floor that took place this summer off our our coast.&nbsp\;</span><br style="color: rgb(75\, 79\, 86)\; font-family: Helvetica\, Arial\, sans-serif\; font-size: 14px\; background-color: rgb(255\, 255\, 255)\;" />\n<br style="color: rgb(75\, 79\, 86)\; font-family: Helvetica\, Arial\, sans-serif\; font-size: 14px\; background-color: rgb(255\, 255\, 255)\;" />\n<span style="color: rgb(75\, 79\, 86)\; font-family: Helvetica\, Arial\, sans-serif\; font-size: 14px\; background-color: rgb(255\, 255\, 255)\;">The EV Nautilus\, carries two Remotely Operated Vehicles. A grant allowed for four days of exploration in the Quinault Canyon off the shores of Washington State\, where they mapped ocean floor terrain\, sampled for ocean acidification\, and looked at methane seeps and deep water organisms. Joe Schumacker and Olympic National Marine Sanctuary coordinated with the ship during this time\, and in this presentation Joe will share information\, photos\, and video footage.</span><br style="color: rgb(75\, 79\, 86)\; font-family: Helvetica\, Arial\, sans-serif\; font-size: 14px\; background-color: rgb(255\, 255\, 255)\;" />\n<span style="color: rgb(75\, 79\, 86)\; font-family: Helvetica\, Arial\, sans-serif\; font-size: 14px\; background-color: rgb(255\, 255\, 255)\;">&#8203\;</span><br style="color: rgb(75\, 79\, 86)\; font-family: Helvetica\, Arial\, sans-serif\; font-size: 14px\; background-color: rgb(255\, 255\, 255)\;" />\n<span style="color: rgb(75\, 79\, 86)\; font-family: Helvetica\, Arial\, sans-serif\; font-size: 14px\; background-color: rgb(255\, 255\, 255)\;">Joe Schumacker has been working with the </span><span style="color: rgb(75\, 79\, 86)\; font-family: Helvetica\, Arial\, sans-serif\; font-size: 14px\; background-color: rgb(255\, 255\, 255)\;">Quinau</span><span class="text_exposed_show" style="display: inline\; font-family: Helvetica\, Arial\, sans-serif\; color: rgb(75\, 79\, 86)\; font-size: 14px\; background-color: rgb(255\, 255\, 255)\;">lt</span><span class="text_exposed_show" style="display: inline\; font-family: Helvetica\, Arial\, sans-serif\; color: rgb(75\, 79\, 86)\; font-size: 14px\; background-color: rgb(255\, 255\, 255)\;"> Indian Nation on the west coast of Washington State for sixteen years. During that time he has managed many of the tribe&#39\;s fisheries including salmon\, groundfish and shellfish. Joe has been an active participant for the Quinault Nation at the Pacific Fisheries Management Council and has worked with all of the Washington coastal tribes on marine science issues including\; benthic habitat characterization\, harmful algal blooms and toxin analysis\, improving fisheries assessments off the Washington coast\, improving management of coastal crab fisheries and assessments of intertidal coastal habitat. Joe has represented the Quinault Nation on the Grays Harbor Marine Resources Committee (GH MRC)\, Olympic Coast National Marine Sanctuary Advisory Council and the Intergovernmental Policy Council (IPC) working with the Sanctuar</span>
LOCATION:Home Port Restaurant 857 Point Brown Ave. Ocean Shores\, WA
UID:e.26.9415
SEQUENCE:3
DTSTAMP:20260425T163838Z
URL:https://chamber.graysharbor.org/events/details/lecture-exploring-the-quinault-canyon-9415
END:VEVENT

END:VCALENDAR
