BEGIN:VCALENDAR
VERSION:2.0
PRODID:-//ChamberMaster//Event Calendar 2.0//EN
METHOD:PUBLISH
X-PUBLISHED-TTL:P3D
REFRESH-INTERVAL:P3D
CALSCALE:GREGORIAN
BEGIN:VEVENT
DTSTART:20190112T200000Z
DTEND:20190112T220000Z
X-MICROSOFT-CDO-ALLDAYEVENT:FALSE
SUMMARY:Legislative Meet and Greet
DESCRIPTION:
X-ALT-DESC;FMTTYPE=text/html:
LOCATION:
UID:e.26.11639
SEQUENCE:3
DTSTAMP:20260424T210515Z
URL:https://chamber.graysharbor.org/events/details/legislative-meet-and-greet-11639
END:VEVENT

END:VCALENDAR
