BEGIN:VCALENDAR
VERSION:2.0
PRODID:-//ChamberMaster//Event Calendar 2.0//EN
METHOD:PUBLISH
X-PUBLISHED-TTL:P3D
REFRESH-INTERVAL:P3D
CALSCALE:GREGORIAN
BEGIN:VEVENT
DTSTART:20200110T193000Z
DTEND:20200110T213000Z
X-MICROSOFT-CDO-ALLDAYEVENT:FALSE
SUMMARY:Legislative Send-Off
DESCRIPTION:The 2020 Legislative Send-Off is a one-of-a-kind opportunity to meet with your state Legislators before the start of the year's Legislative session. \n\n \n\nKXRO's Kyle Pauley will be the event's MC while Legislators invited from the 19th and 24th Districts will share their perspectives and insight into many substantive issues facing the state during the upcoming legislative session.\n\n \n\nPlease RSVP by Thursday\, January 2nd by calling (360) 532-7888 or emailing Candie@graysharbor.org. Space is limited.
X-ALT-DESC;FMTTYPE=text/html:<span style="font-family:arial\;">&nbsp\;</span>\n<p style="margin: 0px\; padding: 0px\; caret-color: rgb(85\, 85\, 85)\; color: rgb(85\, 85\, 85)\; font-family: Roboto\, &quot\;Lucida Grande&quot\;\, arial\, sans-serif\; font-size: 15px\;"><span style="font-family:arial\;">The 2020 Legislative Send-Off is a one-of-a-kind opportunity to meet with your state Legislators before the start of the year&#39\;s Legislative session.&nbsp\;</span></p>\n\n<p style="margin: 0px\; padding: 0px\; caret-color: rgb(85\, 85\, 85)\; color: rgb(85\, 85\, 85)\; font-family: Roboto\, &quot\;Lucida Grande&quot\;\, arial\, sans-serif\; font-size: 15px\;">&nbsp\;</p>\n\n<p style="margin: 0px\; padding: 0px\; caret-color: rgb(85\, 85\, 85)\; color: rgb(85\, 85\, 85)\; font-family: Roboto\, &quot\;Lucida Grande&quot\;\, arial\, sans-serif\; font-size: 15px\;"><span style="font-size:14px\;"><span style="font-family:arial\;"><span style="caret-color: rgb(0\, 0\, 0)\; color: rgb(0\, 0\, 0)\;">KXRO&rsquo\;s Kyle Pauley will be the event&rsquo\;s MC while Legislators invited from the 19th and 24th Districts will share their perspectives and insight into many substantive issues facing the state during the upcoming legislative session.</span></span></span></p>\n\n<p style="margin: 0px\; padding: 0px\; caret-color: rgb(85\, 85\, 85)\; color: rgb(85\, 85\, 85)\; font-family: Roboto\, &quot\;Lucida Grande&quot\;\, arial\, sans-serif\; font-size: 15px\;">&nbsp\;</p>\n\n<p style="margin: 0px\; padding: 0px\; caret-color: rgb(85\, 85\, 85)\; color: rgb(85\, 85\, 85)\; font-family: Roboto\, &quot\;Lucida Grande&quot\;\, arial\, sans-serif\; font-size: 15px\;"><span style="font-family:arial\;">Please RSVP by Thursday\, January 2nd by calling (360) 532-7888 or emailing&nbsp\;<a data-id="l-7137172838" href="mailto:Candie@graysharbor.org" rel="nofollow" style="cursor: pointer\; color: rgb(28\, 110\, 152)\;" target="_blank">Candie@graysharbor.org</a>. Space is limited.</span></p>\n
LOCATION:Rotary Log Pavilion Aberdeen\, WA
UID:e.26.12300
SEQUENCE:3
DTSTAMP:20260424T041750Z
URL:https://chamber.graysharbor.org/events/details/legislative-send-off-12300
END:VEVENT

END:VCALENDAR
