BEGIN:VCALENDAR
VERSION:2.0
PRODID:-//ChamberMaster//Event Calendar 2.0//EN
METHOD:PUBLISH
X-PUBLISHED-TTL:P3D
REFRESH-INTERVAL:P3D
CALSCALE:GREGORIAN
BEGIN:VEVENT
DTSTART:20180106T073000Z
DTEND:20180105T213000Z
X-MICROSOFT-CDO-ALLDAYEVENT:FALSE
SUMMARY:Legislative Send-Off
DESCRIPTION:Please join Greater Grays Harbor for one of our most popular events!\n\nThis is your opportunity to meet with your state legislators before the start of the 2018 legislative session. Legislators from the 19th and 24th Districts will share their perspectives and talk about their goals for the 2018 Legislative session.\n\n\n\nPlease RSVP to GGHI by Wednesday\, December 21 by calling (360) 532-7888 or emailing Candie@graysharbor.org. Space is limited.\n\n\n\nCost is $30 for members of GGHI and $40 for non-members. Lunch will be provided by Aloha Alabama.
X-ALT-DESC;FMTTYPE=text/html:<span style="color: rgb(75\, 79\, 86)\; font-family: Helvetica\, Arial\, sans-serif\; font-size: 14px\; background-color: rgb(255\, 255\, 255)\;">Please join Greater Grays Harbor for one of our most popular events!</span><br style="color: rgb(75\, 79\, 86)\; font-family: Helvetica\, Arial\, sans-serif\; font-size: 14px\; background-color: rgb(255\, 255\, 255)\;" />\n<span style="color: rgb(75\, 79\, 86)\; font-family: Helvetica\, Arial\, sans-serif\; font-size: 14px\; background-color: rgb(255\, 255\, 255)\;">This is your opportunity to meet with your state legislators before the start of the 2018 legislative session. Legislators from the 19th and 24th Districts will share their perspectives and talk about their goals for the 2018 Legislative session.</span><br style="color: rgb(75\, 79\, 86)\; font-family: Helvetica\, Arial\, sans-serif\; font-size: 14px\; background-color: rgb(255\, 255\, 255)\;" />\n<br style="color: rgb(75\, 79\, 86)\; font-family: Helvetica\, Arial\, sans-serif\; font-size: 14px\; background-color: rgb(255\, 255\, 255)\;" />\n<span style="color: rgb(75\, 79\, 86)\; font-family: Helvetica\, Arial\, sans-serif\; font-size: 14px\; background-color: rgb(255\, 255\, 255)\;">Please RSVP to GGHI by Wednesday\, December 21 by calling (360) 532-7888 or emailing Candie@graysharbor.org. Space is limited.</span><br style="color: rgb(75\, 79\, 86)\; font-family: Helvetica\, Arial\, sans-serif\; font-size: 14px\; background-color: rgb(255\, 255\, 255)\;" />\n<br style="color: rgb(75\, 79\, 86)\; font-family: Helvetica\, Arial\, sans-serif\; font-size: 14px\; background-color: rgb(255\, 255\, 255)\;" />\n<span style="color: rgb(75\, 79\, 86)\; font-family: Helvetica\, Arial\, sans-serif\; font-size: 14px\; background-color: rgb(255\, 255\, 255)\;">Cost is $30 for members of GGHI and $40 for non-members. Lunch will be provided by Aloha Alabama.</span>
LOCATION:Rotary Log Pavilion Aberdeen\, WA
UID:e.26.9406
SEQUENCE:3
DTSTAMP:20260425T145310Z
URL:https://chamber.graysharbor.org/events/details/legislative-send-off-9406
END:VEVENT

END:VCALENDAR
