BEGIN:VCALENDAR
VERSION:2.0
PRODID:-//ChamberMaster//Event Calendar 2.0//EN
METHOD:PUBLISH
X-PUBLISHED-TTL:P3D
REFRESH-INTERVAL:P3D
CALSCALE:GREGORIAN
BEGIN:VEVENT
DTSTART:20190726T200000Z
DTEND:20190726T210000Z
X-MICROSOFT-CDO-ALLDAYEVENT:FALSE
SUMMARY:LeMay Transfer Station Ribbon Cutting
DESCRIPTION:Greater Grays Harbor\, Inc. will be hosting a ribbon cutting for LeMay\, who will be unveiling their new Transfer Station. This event will take place be on Friday\, July 26th at 1pm. The location is 29 Gavett Lane in Montesano (near the new stoplight on Clemens Road) off of Clemons Road N.\n\n\n\nServices moving to the new transfer station include: MSW (garbage)\, public recycling center\, and E-Waste drop off.\n\n\n\nMain Office and Hazardous Waste WILL NOT be moving. \n\n\n\nThere will be snacks and beverages at the event as well\, so come join in on the fun!\n\n\n\nPlease contact Derek Schlaht at dschlaht@graysharbor.org for more information regarding this event. \n\n\n\nVisit LeMay's website here for more information: graysharbor.lemayinc.com
X-ALT-DESC;FMTTYPE=text/html:<div data-block="true" data-editor="3qblo" data-offset-key="cgbl1-0-0" style="font-family: system-ui\, -apple-system\, BlinkMacSystemFont\, &quot\;.SFNSText-Regular&quot\;\, sans-serif\; caret-color: rgb(28\, 30\, 33)\; color: rgb(28\, 30\, 33)\; font-size: 12px\; white-space: pre-wrap\;">\n<div class="_1mf _1mj" data-offset-key="cgbl1-0-0" style="position: relative\; direction: ltr\; font-family: inherit\;"><span style="font-size:14px\;"><span data-offset-key="cgbl1-0-0">Greater Grays Harbor\, Inc. will be hosting a ribbon cutting for LeMay\, who will be unveiling their new Transfer Station. This event will take place be on Friday\, July 26th at 1pm. The location is 29 Gavett Lane in Montesano (near the new stoplight on Clemens Road) off of Clemons Road N.</span></span></div>\n</div>\n\n<div data-block="true" data-editor="3qblo" data-offset-key="cl7ed-0-0" style="font-family: system-ui\, -apple-system\, BlinkMacSystemFont\, &quot\;.SFNSText-Regular&quot\;\, sans-serif\; caret-color: rgb(28\, 30\, 33)\; color: rgb(28\, 30\, 33)\; font-size: 12px\; white-space: pre-wrap\;">\n<div class="_1mf _1mj" data-offset-key="cl7ed-0-0" style="position: relative\; direction: ltr\; font-family: inherit\;"><span style="font-size:14px\;"><span data-offset-key="elalt-0-0">Services moving to the new transfer station include: MSW (garbage)\, public recycling center\, and E-Waste drop off.</span></span></div>\n</div>\n\n<div data-block="true" data-editor="3qblo" data-offset-key="f1mdq-0-0" style="font-family: system-ui\, -apple-system\, BlinkMacSystemFont\, &quot\;.SFNSText-Regular&quot\;\, sans-serif\; caret-color: rgb(28\, 30\, 33)\; color: rgb(28\, 30\, 33)\; font-size: 12px\; white-space: pre-wrap\;">\n<div class="_1mf _1mj" data-offset-key="f1mdq-0-0" style="position: relative\; direction: ltr\; font-family: inherit\;"><span style="font-size:14px\;"><span data-offset-key="8fd8c-0-0">Main Office and Hazardous Waste WILL NOT be moving. </span></span></div>\n</div>\n\n<div data-block="true" data-editor="3qblo" data-offset-key="1jq3j-0-0" style="font-family: system-ui\, -apple-system\, BlinkMacSystemFont\, &quot\;.SFNSText-Regular&quot\;\, sans-serif\; caret-color: rgb(28\, 30\, 33)\; color: rgb(28\, 30\, 33)\; font-size: 12px\; white-space: pre-wrap\;">\n<div class="_1mf _1mj" data-offset-key="1jq3j-0-0" style="position: relative\; direction: ltr\; font-family: inherit\;"><span style="font-size:14px\;"><span data-offset-key="3b9hu-0-0">There will be snacks and beverages at the event as well\, so come join in on the fun!</span></span></div>\n</div>\n\n<div data-block="true" data-editor="3qblo" data-offset-key="48bbo-0-0" style="font-family: system-ui\, -apple-system\, BlinkMacSystemFont\, &quot\;.SFNSText-Regular&quot\;\, sans-serif\; caret-color: rgb(28\, 30\, 33)\; color: rgb(28\, 30\, 33)\; font-size: 12px\; white-space: pre-wrap\;">\n<div class="_1mf _1mj" data-offset-key="48bbo-0-0" style="position: relative\; direction: ltr\; font-family: inherit\;"><span style="font-size:14px\;"><span data-offset-key="a7256-0-0">Please contact Derek Schlaht at dschlaht@graysharbor.org for more information regarding this event. </span></span></div>\n</div>\n\n<div data-block="true" data-editor="3qblo" data-offset-key="bru28-0-0" style="font-family: system-ui\, -apple-system\, BlinkMacSystemFont\, &quot\;.SFNSText-Regular&quot\;\, sans-serif\; caret-color: rgb(28\, 30\, 33)\; color: rgb(28\, 30\, 33)\; font-size: 12px\; white-space: pre-wrap\;">\n<div class="_1mf _1mj" data-offset-key="bru28-0-0" style="position: relative\; direction: ltr\; font-family: inherit\;"><span style="font-size:14px\;"><span data-offset-key="bru28-0-0">Visit LeMay&#39\;s website here for more information: graysharbor.lemayinc.com</span></span></div>\n</div>\n
LOCATION:29 Gavett Lane in Montesano (near the new stoplight on Clemens Road) off of Clemons Road N.
UID:e.26.12084
SEQUENCE:3
DTSTAMP:20260424T104410Z
URL:https://chamber.graysharbor.org/events/details/lemay-transfer-station-ribbon-cutting-12084
END:VEVENT

END:VCALENDAR
