BEGIN:VCALENDAR
VERSION:2.0
PRODID:-//ChamberMaster//Event Calendar 2.0//EN
METHOD:PUBLISH
X-PUBLISHED-TTL:P3D
REFRESH-INTERVAL:P3D
CALSCALE:GREGORIAN
BEGIN:VEVENT
DTSTART:20190606T160000Z
DTEND:20190606T200000Z
X-MICROSOFT-CDO-ALLDAYEVENT:FALSE
SUMMARY:Let's Go Legal - Non-Profit Workshop
DESCRIPTION:Let's Go Legal covers the five main topics board members need to know: State Law\, Federal Law\, Fundraising\, Employment\, and Intellectual Property. Let's Go Legal shows how your organization is like a car. You need to register it with the state\, driving on federal roads involves an additional set of rules\, you need fuel to move your car forward (that's the money part)\, the people in the car matter\, and the look and feel of your car make it special. It covers what you need to know about each of these topics and provides an easy checklist to make sure your organization covers it all.\n\nWe will take some deeper dives into nonprofit law topics along the way: by-laws and how to use them to strengthen your board practice\, advocacy and ways to grow your mission within the public sector.\n\nWHO SHOULD ATTEND: This workshop is designed for nonprofit board members or staff interested in nonprofit law basics. It is appropriate for organizations with or without staff.
X-ALT-DESC;FMTTYPE=text/html:<p class="firstp" style="line-height: 1.4em\; margin: 1em 0px\; caret-color: rgb(38\, 38\, 38)\; color: rgb(38\, 38\, 38)\; font-family: &quot\;Source Sans Pro&quot\;\, sans-serif\; font-size: 12px\;"><span style="font-size:14px\;">Let&#39\;s Go Legal covers the five main topics board members need to know: State Law\, Federal Law\, Fundraising\, Employment\, and Intellectual Property. Let&#39\;s Go Legal shows how your organization is like a car. You need to register it with the state\, driving on federal roads involves an additional set of rules\, you need fuel to move your car forward (that&#39\;s the money part)\, the people in the car matter\, and the look and feel of your car make it special. It covers what you need to know about each of these topics and provides an easy checklist to make sure your organization covers it all.</span></p>\n\n<p class="middlep" style="line-height: 1.4em\; margin: 1em 0px\; caret-color: rgb(38\, 38\, 38)\; color: rgb(38\, 38\, 38)\; font-family: &quot\;Source Sans Pro&quot\;\, sans-serif\; font-size: 12px\;"><span style="font-size:14px\;">We will take some deeper dives into nonprofit law topics along the way: by-laws and how to use them to strengthen your board practice\, advocacy and ways to grow your mission within the public sector.</span></p>\n\n<p class="lastp" style="line-height: 1.4em\; margin: 1em 0px\; caret-color: rgb(38\, 38\, 38)\; color: rgb(38\, 38\, 38)\; font-family: &quot\;Source Sans Pro&quot\;\, sans-serif\; font-size: 12px\;"><span style="font-size:14px\;">WHO SHOULD ATTEND:&nbsp\;This workshop is designed for nonprofit board members or staff interested in nonprofit law basics. It is appropriate for organizations with or without staff.</span></p>\n
LOCATION:Grays Harbor College Aberdeen\, WA
UID:e.26.11860
SEQUENCE:3
DTSTAMP:20260424T120956Z
URL:https://chamber.graysharbor.org/events/details/let-s-go-legal-non-profit-workshop-11860
END:VEVENT

END:VCALENDAR
