BEGIN:VCALENDAR
VERSION:2.0
PRODID:-//ChamberMaster//Event Calendar 2.0//EN
METHOD:PUBLISH
X-PUBLISHED-TTL:P3D
REFRESH-INTERVAL:P3D
CALSCALE:GREGORIAN
BEGIN:VEVENT
DTSTART:20121208T030000Z
DTEND:20121209T220000Z
X-MICROSOFT-CDO-ALLDAYEVENT:FALSE
SUMMARY:Lighthouse Ballet's 'Nutcracker'
DESCRIPTION:Hoquiam\, WA - One of the world's most beautiful and engaging ballets comes to Grays Harbor as the Lighthouse Ballet Academy presents The Nutcracker in its entirety at the Hoquiam's 7th Street Theatre.  Performances dates are Friday\, December 7 at  7:00 p.m.\; Saturday\, December 8 at 1:00 p.m. and 7:00 p.m.\, and Sunday\, December 9 at 2:00 p.m.  Tchaikovsky's seasonal classic features local talent and original choreography by Artistic Director Luis Mestas.
X-ALT-DESC;FMTTYPE=text/html:<span style="font-family: 'courier new'\; font-size: 12pt\; mso-bidi-font-size: 10.0pt\; mso-fareast-font-family: 'times new roman'\; mso-bidi-font-family: 'times new roman'\; mso-ansi-language: en-us\; mso-fareast-language: en-us\; mso-bidi-language: ar-sa">Hoquiam\, WA - One of the world&#39\;s most beautiful and engaging ballets comes to Grays Harbor as the Lighthouse Ballet Academy presents <i style="mso-bidi-font-style: normal">The Nutcracker</i> in its entirety at the Hoquiam&#39\;s 7th Street Theatre. <span style="mso-spacerun: yes">&nbsp\;</span>Performances dates are <b>Friday\, </b><span style="mso-bidi-font-weight: bold">December 7 at<b> </b></span><span style="mso-spacerun: yes">&nbsp\;</span>7:00 p.m.\; <b>Saturday</b>\, December 8 at 1:00 p.m. and 7:00 p.m.\, and <b style="mso-bidi-font-weight: normal">Sunday</b>\, December 9 at 2:00 p.m. <span style="mso-spacerun: yes">&nbsp\;</span>Tchaikovsky&#39\;s seasonal classic features local talent and original choreography by Artistic Director Luis Mestas.<span style="mso-spacerun: yes">&nbsp\; </span></span>
LOCATION:7th Street Theatre\, Hoquiam.
UID:e.26.2497
SEQUENCE:3
DTSTAMP:20260425T163455Z
URL:https://chamber.graysharbor.org/events/details/lighthouse-ballet-s-nutcracker-12-07-2012-2497
END:VEVENT

END:VCALENDAR
