BEGIN:VCALENDAR
VERSION:2.0
PRODID:-//ChamberMaster//Event Calendar 2.0//EN
METHOD:PUBLISH
X-PUBLISHED-TTL:P3D
REFRESH-INTERVAL:P3D
CALSCALE:GREGORIAN
BEGIN:VEVENT
DTSTART;VALUE=DATE:20191005
DTEND;VALUE=DATE:20191007
TRANSP:TRANSPARENT
X-MICROSOFT-CDO-ALLDAYEVENT:TRUE
SUMMARY:Lightning Module WA
DESCRIPTION:LIGHTNING MODULE: FAST SQUAD\n\n\n\nThe Lightning Module is our short program\, based off of the principles of wildland fire's fastest response teams. With 10-14 hours\, participants will experience HIIT style team activities developed to push progression and growth while promoting collective problem solving.\n\n\n\n\n\n\n\n \n\nMission: to provide an experience that accurately depicts not only the physical demands of being a wildland firefighter\, but also provides the sense of family and community closeness that is the life blood of being a Hotshot. All FirefighterFit Endurance events are developed and staffed by wildland firefighters witha minimum five years experience in the field and/or minimum 3 years on a Hotshot crew. In short\, we don't pretend to be something we're not. \n\n \n\nThis is an endurance event. You will be pushed. You will be uncomfortable. You will experience adverse conditions that will make you want to quit. You will live on the threshold of constant discomfort. And in the end\, you will love it\, because it will be worth it.\n\nFor more information\, visit: www.firefighterfitendurance.com
X-ALT-DESC;FMTTYPE=text/html:<p style="margin: 0px\; padding: 0px\; color: rgb(111\, 114\, 135)\; font-family: &quot\;Neue Plak&quot\;\, -apple-system\, BlinkMacSystemFont\, Roboto\, &quot\;Helvetica Neue&quot\;\, Helvetica\, Tahoma\, Arial\, sans-serif\; font-size: 14.933333396911621px\; letter-spacing: 0.5px\;"><span style="font-family:arial\;"><span style="color:#000000\;"><span style="font-size:14px\;"><span style="font-weight: 700\; padding-top: 0px\;">LIGHTNING MODULE: FAST SQUAD</span></span></span></span></p>\n\n<div class="design-element element-size-box has-rich-content user-selectable-element clickable-element has-rich-content has-text is-section-child" style="margin: 0px\; padding: 0px\; caret-color: rgb(57\, 54\, 79)\; color: rgb(57\, 54\, 79)\; font-family: &quot\;Neue Plak&quot\;\, -apple-system\, BlinkMacSystemFont\, Roboto\, &quot\;Helvetica Neue&quot\;\, Helvetica\, Tahoma\, Arial\, sans-serif\; font-size: 14.933333396911621px\; letter-spacing: 0.5px\;">\n<div class="element-main-box design-element-main-box has-rich-content user-selectable-element clickable-element has-rich-content has-text" style="margin: 0px\; padding: 0px\;">\n<div class="element-background-layer element-border-target design-element-background-layer has-rich-content user-selectable-element clickable-element has-rich-content has-text" style="margin: 0px\; padding: 0px\;"><span style="font-family:arial\;"><span style="color:#000000\;"><span style="font-size:14px\;"><span style="font-weight: 700\; padding-top: 0px\;">The Lightning Module is our short program\, based off of the principles of wildland fire&#39\;s fastest response teams. With 10-14 hours\, participants will experience HIIT style team activities developed to push progression and growth while promoting collective problem solving.</span></span></span></span></div>\n\n<div class="element-border-box element-border-target element-padding-box design-element-border-box has-rich-content user-selectable-element clickable-element has-rich-content has-text" style="margin: 0px\; padding: 0px\;">\n<div class="element-content-box design-element-content-box has-rich-content user-selectable-element clickable-element has-rich-content has-text" style="margin: 0px\; padding: 0px\;">\n<div class="content-container content-container-type element-size-box element-size-target has-rich-content user-selectable-element clickable-element has-rich-content has-text" style="margin: 0px\; padding: 0px\;">\n<div class="rich-text-element-content absolute-fill element-content dir-ltr" style="margin: 0px\; padding: 0px\;">\n<div class="rich-text-positioning-wrapper vertical-alignment-top" style="margin: 0px\; padding: 0px\;">\n<div class="rich-text-content common-rich-content-style has-content" style="margin: 0px\; padding: 0px\;">\n<div style="margin: 0px\; padding: 0px\;">&nbsp\;</div>\n\n<div style="margin: 0px\; padding: 0px\;"><span style="font-family:arial\;"><span style="color:#000000\;"><span style="font-size:14px\;"><span class="theme-text-color-1-0" style="padding-top: 0px\;"><span style="font-weight: 700\; padding-top: 0px\;">Mission:</span>&nbsp\;to provide an experience that accurately depicts not only the physical demands&nbsp\;</span><span class="theme-text-color-0-1">of being a&nbsp\;</span><span class="theme-text-color-1-0">wildland firefighter\, but also provides the sense of family and community closeness that is the&nbsp\;</span><span class="theme-text-color-0-1">life blood of&nbsp\;</span><span class="theme-text-color-1-0">being a Hotshot. All FirefighterFit Endurance events are developed and staffed by wildland</span><span class="theme-text-color-0-1">&nbsp\;firefighters with</span><span class="theme-text-color-1-0">a minimum five years experience in the field and/or minimum 3 years on a Hotshot crew.</span><span class="theme-text-color-0-1">&nbsp\;In short\, we don&#39\;t&nbsp\;</span><span class="theme-text-color-1-0">pretend to be something we&#39\;re not.</span>&#8203\;</span></span></span></div>\n\n<div style="margin: 0px\; padding: 0px\;">&nbsp\;</div>\n\n<div style="margin: 0px\; padding: 0px\;"><span style="font-family:arial\;"><span style="color:#000000\;"><span style="font-size:14px\;"><span style="padding-top: 0px\;"><span class="theme-text-color-1-0" style="padding-top: 0px\;"><span style="padding-top: 0px\;">This is an endurance event. You will be pushed. You will be uncomfortable. You will&nbsp\;</span></span><span class="theme-text-color-0-1"><span style="padding-top: 0px\;">experience adverse&nbsp\;</span></span><span class="theme-text-color-1-0"><span style="padding-top: 0px\;">conditions that will make you want to quit. You will live on the threshold of&nbsp\;</span></span><span class="theme-text-color-0-1"><span style="padding-top: 0px\;">constant discomfort.&nbsp\;</span></span></span><span class="theme-text-color-1-0" style="padding-top: 0px\;">And in the end\, you will love it\, because it will be worth it.<br />\nFor more information\, visit:&nbsp\;</span></span></span></span>www.firefighterfitendurance.com</div>\n</div>\n</div>\n</div>\n</div>\n</div>\n</div>\n</div>\n</div>\n
LOCATION:Lake Sylvia State Park 1812 Lake Sylvia Rd N Montesano\, WA 98563
UID:e.26.12187
SEQUENCE:3
DTSTAMP:20260424T072403Z
URL:https://chamber.graysharbor.org/events/details/lightning-module-wa-12187
END:VEVENT

END:VCALENDAR
