BEGIN:VCALENDAR
VERSION:2.0
PRODID:-//ChamberMaster//Event Calendar 2.0//EN
METHOD:PUBLISH
X-PUBLISHED-TTL:P3D
REFRESH-INTERVAL:P3D
CALSCALE:GREGORIAN
BEGIN:VEVENT
DTSTART:20190120T040000Z
DTEND:20190120T070000Z
X-MICROSOFT-CDO-ALLDAYEVENT:FALSE
SUMMARY:Live Music at The Place To Be
DESCRIPTION:Come on out to The Place To Be for a rockin' night of live music featuring Feelin' Good! Music will begin at 8pm. The night will explode with good music and fun! We hope to see you there.
X-ALT-DESC;FMTTYPE=text/html:Come on out to The Place To Be for a rockin&#39\; night of live music featuring Feelin&#39\; Good! Music will begin at 8pm. The night will explode with good music and fun! We hope to see you there.
LOCATION:The Place To Be 710 J St. Hoquiam\, WA )Across the street with 7th St. Theatre)
UID:e.26.11645
SEQUENCE:3
DTSTAMP:20260424T194600Z
URL:https://chamber.graysharbor.org/events/details/live-music-at-the-place-to-be-11645
END:VEVENT

END:VCALENDAR
