BEGIN:VCALENDAR
VERSION:2.0
PRODID:-//ChamberMaster//Event Calendar 2.0//EN
METHOD:PUBLISH
X-PUBLISHED-TTL:P3D
REFRESH-INTERVAL:P3D
CALSCALE:GREGORIAN
BEGIN:VEVENT
DTSTART:20190119T173000Z
DTEND:20190119T193000Z
X-MICROSOFT-CDO-ALLDAYEVENT:FALSE
SUMMARY:Live Music at Tinderbox Coffee Roasters
DESCRIPTION:Come hear the talented Amanda Ransom as she plays piano and sings\, while enjoying a coffee from us!
X-ALT-DESC;FMTTYPE=text/html:<span style="caret-color: rgb(29\, 33\, 41)\; color: rgb(29\, 33\, 41)\; font-family: system-ui\, -apple-system\, BlinkMacSystemFont\, &quot\;.SFNSText-Regular&quot\;\, sans-serif\; font-size: 14px\; white-space: pre-wrap\; background-color: rgb(255\, 255\, 255)\;">Come hear the talented Amanda Ransom as she plays piano and sings\, while enjoying a coffee from us!</span>
LOCATION:Tinderbox Coffee Roasters 113 E Wishkah St. Aberdeen\, WA
UID:e.26.11409
SEQUENCE:3
DTSTAMP:20260424T210807Z
URL:https://chamber.graysharbor.org/events/details/live-music-at-tinderbox-coffee-roasters-11409
END:VEVENT

END:VCALENDAR
