BEGIN:VCALENDAR
VERSION:2.0
PRODID:-//ChamberMaster//Event Calendar 2.0//EN
METHOD:PUBLISH
X-PUBLISHED-TTL:P3D
REFRESH-INTERVAL:P3D
CALSCALE:GREGORIAN
BEGIN:VEVENT
DTSTART:20200314T190000Z
DTEND:20200314T200000Z
X-MICROSOFT-CDO-ALLDAYEVENT:FALSE
SUMMARY:Live music with Tyler Markz
DESCRIPTION:Local singer/songwriter Tyler Markz will be performing live here at Urban Juice Factory! March 14TH from 12:00-1:00 p.m. you won't want to miss it. We will have plenty of delicious food and beverage options available for order! Be sure to check out Tyler's Facebook page and follow it for his other upcoming events. ????
X-ALT-DESC;FMTTYPE=text/html:<span style="color:rgb(29\, 33\, 41)\; font-family:helvetica\,arial\,sans-serif\; font-size:14px">Local singer/songwriter Tyler Markz will be performing live here at Urban Juice Factory! March 14TH from 12:00-1:00 p.m. you won&rsquo\;t want to miss it. We will have plenty of delicious food and beverage options available for order! Be sure to check out Tyler&rsquo\;s Facebook page and follow it for his other upcoming events. ????</span>
LOCATION:Urban Juice Factory\, Inc. at 214 S Main St\, Montesano\, WA 98563
UID:e.26.12370
SEQUENCE:3
DTSTAMP:20260424T060146Z
URL:https://chamber.graysharbor.org/events/details/live-music-with-tyler-markz-12370
END:VEVENT

END:VCALENDAR
