BEGIN:VCALENDAR
VERSION:2.0
PRODID:-//ChamberMaster//Event Calendar 2.0//EN
METHOD:PUBLISH
X-PUBLISHED-TTL:P3D
REFRESH-INTERVAL:P3D
CALSCALE:GREGORIAN
BEGIN:VEVENT
DTSTART:20181222T030000Z
DTEND:20181222T050000Z
X-MICROSOFT-CDO-ALLDAYEVENT:FALSE
SUMMARY:Live Norman Baker! Barrel Aged Lumber Rock
DESCRIPTION:Hi folks got more live music coming at you this month! Friday the 21st of December we have Norman Baker performing solo! He's got a great rustic sound playing smooth\, americana music. Perfect for soothing holiday stresses\, date night or chilling with friends. Check out his music and check him out in person at the M.O.B.\n\n\n\nhttp://www.normanbaker.com/\n\nhttps://normanbaker.bandcamp.com/\n\nhttps://www.facebook.com/normanbakermusic
X-ALT-DESC;FMTTYPE=text/html:<span style="caret-color: rgb(29\, 33\, 41)\; color: rgb(29\, 33\, 41)\; font-family: system-ui\, -apple-system\, BlinkMacSystemFont\, &quot\;.SFNSText-Regular&quot\;\, sans-serif\; font-size: 14px\; background-color: rgb(255\, 255\, 255)\;">Hi folks got more live music coming at you this month! Friday the 21st of December we have Norman Baker performing solo! He&#39\;s got a great rustic sound playing smooth\, americana music. Perfect for soothing holiday stresses\, date night or chilling with friends. Check out his music and check him out in person at the M.O.B.</span><br style="caret-color: rgb(29\, 33\, 41)\; color: rgb(29\, 33\, 41)\; font-family: system-ui\, -apple-system\, BlinkMacSystemFont\, &quot\;.SFNSText-Regular&quot\;\, sans-serif\; font-size: 14px\;" />\n<br style="caret-color: rgb(29\, 33\, 41)\; color: rgb(29\, 33\, 41)\; font-family: system-ui\, -apple-system\, BlinkMacSystemFont\, &quot\;.SFNSText-Regular&quot\;\, sans-serif\; font-size: 14px\;" />\n<a data-lynx-mode="hover" href="https://l.facebook.com/l.php?u=http%3A%2F%2Fwww.normanbaker.com%2F%3Ffbclid%3DIwAR3uOogH7Pwmez7s_UIntXkkHiG4iFIXKEVgTKFaq4rdk0fCHa1L9uViSFc&amp\;h=AT1aWkgLbqpdtarnW9tXvubc8IKOkhjryvl6UF-32MrMbY24oqcJ7yLFCcOI0ItEVNGznNMuRkIyMOtLto9wC3C_bkXYzx7hWgTCz7ab9JcyXrByZNZVXgQJDO68id3cxyXHjShC4w" rel="nofollow noopener" style="color: rgb(54\, 88\, 153)\; cursor: pointer\; text-decoration: none\; font-family: system-ui\, -apple-system\, BlinkMacSystemFont\, &quot\;.SFNSText-Regular&quot\;\, sans-serif\; font-size: 14px\;" target="_blank">http://www.normanbaker.com/</a><br style="caret-color: rgb(29\, 33\, 41)\; color: rgb(29\, 33\, 41)\; font-family: system-ui\, -apple-system\, BlinkMacSystemFont\, &quot\;.SFNSText-Regular&quot\;\, sans-serif\; font-size: 14px\;" />\n<a data-lynx-mode="hover" href="https://l.facebook.com/l.php?u=https%3A%2F%2Fnormanbaker.bandcamp.com%2F%3Ffbclid%3DIwAR2O9RB0pFFor4E5vCqdyzLUDDNXJdyRs2nkt5a37ByCcZESlaUWg94XkpY&amp\;h=AT3RfBYW6FUNlJwhv8ssCWilEui4fS_4eBB6h27dNjnLuHbYW5F8PCmBpFxTaSePa8eplG-5p3DYsOBV_zlpK4UrMIL5_KVdSK0bs_yhUgSZ9PRaKJ2stPVE7YGgxTq22fqv2YSVgA" rel="nofollow noopener" style="color: rgb(54\, 88\, 153)\; cursor: pointer\; text-decoration: none\; font-family: system-ui\, -apple-system\, BlinkMacSystemFont\, &quot\;.SFNSText-Regular&quot\;\, sans-serif\; font-size: 14px\;" target="_blank">https://normanbaker.bandcamp.com/</a><br style="caret-color: rgb(29\, 33\, 41)\; color: rgb(29\, 33\, 41)\; font-family: system-ui\, -apple-system\, BlinkMacSystemFont\, &quot\;.SFNSText-Regular&quot\;\, sans-serif\; font-size: 14px\;" />\n<a href="https://www.facebook.com/normanbakermusic" style="color: rgb(54\, 88\, 153)\; cursor: pointer\; text-decoration: none\; font-family: system-ui\, -apple-system\, BlinkMacSystemFont\, &quot\;.SFNSText-Regular&quot\;\, sans-serif\; font-size: 14px\;" target="_blank">https://www.facebook.com/normanbakermusic</a>
LOCATION:Mount Olympus Brewing Co. Aberdeen\, WA
UID:e.26.11358
SEQUENCE:3
DTSTAMP:20260424T224401Z
URL:https://chamber.graysharbor.org/events/details/live-norman-baker-barrel-aged-lumber-rock-11358
END:VEVENT

END:VCALENDAR
