BEGIN:VCALENDAR
VERSION:2.0
PRODID:-//ChamberMaster//Event Calendar 2.0//EN
METHOD:PUBLISH
X-PUBLISHED-TTL:P3D
REFRESH-INTERVAL:P3D
CALSCALE:GREGORIAN
BEGIN:VEVENT
DTSTART;VALUE=DATE:20190430
DTEND;VALUE=DATE:20190501
TRANSP:TRANSPARENT
X-MICROSOFT-CDO-ALLDAYEVENT:TRUE
SUMMARY:Living with Diabetes
DESCRIPTION:GHCH will be facilitating a 6 week one day a week diabetes education class at Grays Harbor Community Hospital starting Tuesday\, April 2nd. If you are diabetic\, pre-diabetic or deal with a significant other that is\, this class is for you. If interested email diabetes@ghcares.org or call 360-537-6184 giving your name\, contact information and best time to reach you. Space is limited so sign up today!
X-ALT-DESC;FMTTYPE=text/html:<span style="caret-color: rgb(29\, 33\, 41)\; color: rgb(29\, 33\, 41)\; font-family: system-ui\, -apple-system\, BlinkMacSystemFont\, &quot\;.SFNSText-Regular&quot\;\, sans-serif\; font-size: 14px\; white-space: pre-wrap\;">GHCH will be facilitating a 6 week one day a week diabetes education class at Grays Harbor Community Hospital starting Tuesday\, April 2nd. If you are diabetic\, pre-diabetic or deal with a significant other that is\, this class is for you. If interested email diabetes@ghcares.org or call 360-537-6184 giving your name\, contact information and best time to reach you. Space is limited so sign up today!</span>
LOCATION:pin 1106 N. H Street Aberdeen\, WA 98520
UID:e.26.11881
SEQUENCE:3
DTSTAMP:20260424T152603Z
URL:https://chamber.graysharbor.org/events/details/living-with-diabetes-04-30-2019-11881
END:VEVENT

END:VCALENDAR
