BEGIN:VCALENDAR
VERSION:2.0
PRODID:-//ChamberMaster//Event Calendar 2.0//EN
METHOD:PUBLISH
X-PUBLISHED-TTL:P3D
REFRESH-INTERVAL:P3D
CALSCALE:GREGORIAN
BEGIN:VEVENT
DTSTART;VALUE=DATE:20170909
DTEND;VALUE=DATE:20170910
TRANSP:TRANSPARENT
X-MICROSOFT-CDO-ALLDAYEVENT:TRUE
SUMMARY:Logger's Playday
DESCRIPTION:Each year the festival begins with the Rotary Club's Famous Pancake Feed\, followed by the vendor fair in downtown Hoquiam\, the Elks Lodge Grand Parade\, the renowned Loggers Show at 6 p.m. at Olympic Stadium\, and a closing fireworks display that's fun for the whole family.
X-ALT-DESC;FMTTYPE=text/html:Each year the festival begins with the Rotary Club&rsquo\;s Famous Pancake Feed\, followed by the&nbsp\;vendor fair in downtown Hoquiam\, the Elks Lodge Grand Parade\, the renowned Loggers Show at 6 p.m. at Olympic Stadium\, and a closing fireworks display that&rsquo\;s fun for the whole family.
LOCATION:Hoquiam\, WA
UID:e.26.7615
SEQUENCE:3
DTSTAMP:20260425T230003Z
URL:https://chamber.graysharbor.org/events/details/logger-s-playday-7615
END:VEVENT

END:VCALENDAR
