BEGIN:VCALENDAR
VERSION:2.0
PRODID:-//ChamberMaster//Event Calendar 2.0//EN
METHOD:PUBLISH
X-PUBLISHED-TTL:P3D
REFRESH-INTERVAL:P3D
CALSCALE:GREGORIAN
BEGIN:VEVENT
DTSTART:20190907T020000Z
DTEND:20190908T040000Z
X-MICROSOFT-CDO-ALLDAYEVENT:FALSE
SUMMARY:Loggers Playday Weekend at The Place to Be
DESCRIPTION:The talented Three Rivers Band will be at The Place to Be all weekend for Loggers Playday! Gather your friends and enjoy a night of good music\, drinks\, and dancing after the excitement of Loggers Playday in downtown Hoquiam and at the Olympic Stadium.
X-ALT-DESC;FMTTYPE=text/html:<span style="font-size:14px\;"><span style="caret-color: rgb(29\, 33\, 41)\; color: rgb(29\, 33\, 41)\; font-family: system-ui\, -apple-system\, BlinkMacSystemFont\, &quot\;.SFNSText-Regular&quot\;\, sans-serif\; white-space: pre-wrap\;">The talented Three Rivers Band will be at The Place to Be all weekend for Loggers Playday! Gather your friends and enjoy a night of good music\, drinks\, and dancing after the excitement of Loggers Playday in downtown Hoquiam and at the Olympic Stadium. </span></span>
LOCATION:pin The Place To Be 710J St\, Hoquiam\, Washington 98550
UID:e.26.12097
SEQUENCE:3
DTSTAMP:20260424T074117Z
URL:https://chamber.graysharbor.org/events/details/loggers-playday-weekend-at-the-place-to-be-12097
END:VEVENT

END:VCALENDAR
