BEGIN:VCALENDAR
VERSION:2.0
PRODID:-//ChamberMaster//Event Calendar 2.0//EN
METHOD:PUBLISH
X-PUBLISHED-TTL:P3D
REFRESH-INTERVAL:P3D
CALSCALE:GREGORIAN
BEGIN:VEVENT
DTSTART:20170820T020000Z
DTEND:20170820T030000Z
X-MICROSOFT-CDO-ALLDAYEVENT:FALSE
SUMMARY:LOLs & Libations with Gabriel Rutledge
DESCRIPTION:Westport Art Festival proudly presents Gabriel Rutlledge in a special appearance at The Chateau Westport. Part of the festival's 20th Anniversary series of special events! Come out for the weekend\, walk the festival during the day\, then relax and have some laughs on Saturday evening with Gabriel\, who describes himself as "professional comedian\, amateur husband and father". $20 tickets include refreshments and limited host bar. Enjoy Blackbeard's Brewery microbrews\, or wine. Guaranteed good time! Get tickets soon\, as seating is limited and this show is expected to sell out soon! Come out to Westport for a fantastic festival weekend. Be sure to follow our FB page to learn about all of this weekend's events. (This show for adults 21 & over only) TICKETS AVAILABLE AT CHATEAU WESTPORT FRONT DESK\, OR BY CALLING 360.591.2761. TICKETS GO ON SALE JAN 30TH.
X-ALT-DESC;FMTTYPE=text/html:<span style="color: rgb(75\, 79\, 86)\; font-family: Helvetica\, Arial\, sans-serif\; font-size: 14px\; background-color: rgb(255\, 255\, 255)\;">Westport Art Festival proudly presents Gabriel Rutlledge in a special appearance at The Chateau Westport. Part of the festival&#39\;s 20th Anniversary series of special events! Come out for the weekend\, walk the festival during the day\, then relax and have some laughs on Saturday evening with Gabriel\, who describes himself as &quot\;professional comedian\, amateur husband and father&quot\;. $20 tickets include refreshments and limited host bar. Enjoy Blackbeard&#39\;s Brewery microbrews\, or wine. Guaranteed good time! Get tickets soon\, as seating is limited and this show is expected to sell out soon! Come out to Westport for a fantastic festival weekend. Be sure to follow our FB page to learn about all of this weekend&#39\;s events. (This show for adults 21 &amp\; over only) TICKETS AVAILABLE AT CHATEAU WESTPORT FRONT DESK\, OR BY CALLING 360.591.2761. TICKETS GO ON SALE JAN 30TH.</span>
LOCATION:Chateau Westport 710 Hancock Ave Westport\, WA
UID:e.26.8158
SEQUENCE:3
DTSTAMP:20260426T002911Z
URL:https://chamber.graysharbor.org/events/details/lols-libations-with-gabriel-rutledge-8158
END:VEVENT

END:VCALENDAR
