BEGIN:VCALENDAR
VERSION:2.0
PRODID:-//ChamberMaster//Event Calendar 2.0//EN
METHOD:PUBLISH
X-PUBLISHED-TTL:P3D
REFRESH-INTERVAL:P3D
CALSCALE:GREGORIAN
BEGIN:VEVENT
DTSTART:20200128T193000Z
DTEND:20200128T210000Z
X-MICROSOFT-CDO-ALLDAYEVENT:FALSE
SUMMARY:Lunch with the Mayors
DESCRIPTION:Grays Harbor Mayors: Forecasting 2020 \n\n\nThe New Year is upon us\, and with that comes Greater Grays Harbor's first Business Forum lunch of the year!\n\nThis month's topic\, Lunch with the Mayors\, will provide Grays Harbor community members with an opportunity to hear directly from their elected officials. Each mayor will provide updates from their community as well as discuss their upcoming priorities for 2020.\n\nInvited Municipal Officials\n\n\n	Mayor Pete Schave\, Aberdeen\n	Mayor Kyle Pauley\, Cosmopolis\n	Mayor Jim Sorenson\, Elma\n	Mayor Ben Winkelman\, Hoquiam\n	Mayor Brenda Orffer. McCleary\n	Mayor Vini Samuel\, Montesano\n	Mayor Crystal Dingler\, Ocean Shores\n	Mayor Rob Bearden\, Westport\n\n\nPlease RSVP online through this flyer for each individual attending from your organization or call (360) 532-7888.
X-ALT-DESC;FMTTYPE=text/html:<h2 class="theme-p-title theme-color3" data-clicktarget="#" data-target="title" style="margin-top: 0px\; margin-right: 0px\; margin-left: 0px\; padding: 5px 0px 10px\; font-size: 3em\; word-wrap: break-word\; border-bottom-color: rgb(222\, 222\, 222)\; font-family: sm_glasgow-nn\, Arial\, sans-serif\; color: rgb(19\, 51\, 21)\; margin-bottom: 15px !important\; text-shadow: none !important\; max-width: 430px !important\;"><u><strong><span style="font-size:14px\;"><span style="font-family:arial\;">Grays Harbor Mayors: Forecasting 2020&nbsp\;</span></span></strong></u></h2>\n\n<div class="theme-p  theme-color-4" data-target="content" style="margin: 0px\; padding: 0px 0px 12px\; font-family: Roboto\, &quot\;Lucida Grande&quot\;\, arial\, sans-serif\; line-height: 1.55\; font-size: 1.5em\; word-wrap: break-word\; color: rgb(85\, 85\, 85)\;">\n<p style="margin: 0px\; padding: 0px\;"><span style="font-size:14px\;"><span style="font-family:arial\;">The New Year is upon us\, and with that comes Greater Grays Harbor&#39\;s first Business Forum lunch of the year!</span></span></p>\n\n<p style="margin: 0px\; padding: 0px\;"><span style="font-size:14px\;"><span style="font-family:arial\;">This month&#39\;s topic\,&nbsp\;<span style="font-style: italic\;">Lunch with the Mayors</span>\, will provide Grays Harbor community members with an opportunity to hear directly from their elected officials. Each mayor will provide updates from their community as well as discuss their upcoming priorities for 2020.</span></span></p>\n\n<p style="margin: 0px\; padding: 0px\;"><span style="font-size:14px\;"><span style="font-family:arial\;"><span style="font-style: inherit\; font-weight: 700\;">Invited Municipal Officials</span></span></span></p>\n\n<ul style="margin: 0px\; padding-right: 0px\; padding-left: 30px\;">\n	<li style="margin: 0px\; padding: 0px\; list-style: disc\;"><span style="font-size:14px\;"><span style="font-family:arial\;">Mayor Pete Schave\, Aberdeen</span></span></li>\n	<li style="margin: 0px\; padding: 0px\; list-style: disc\;"><span style="font-size:14px\;"><span style="font-family:arial\;">Mayor Kyle Pauley\, Cosmopolis</span></span></li>\n	<li style="margin: 0px\; padding: 0px\; list-style: disc\;"><span style="font-size:14px\;"><span style="font-family:arial\;">Mayor Jim Sorenson\, Elma</span></span></li>\n	<li style="margin: 0px\; padding: 0px\; list-style: disc\;"><span style="font-size:14px\;"><span style="font-family:arial\;">Mayor Ben Winkelman\, Hoquiam</span></span></li>\n	<li style="margin: 0px\; padding: 0px\; list-style: disc\;"><span style="font-size:14px\;"><span style="font-family:arial\;">Mayor Brenda Orffer. McCleary</span></span></li>\n	<li style="margin: 0px\; padding: 0px\; list-style: disc\;"><span style="font-size:14px\;"><span style="font-family:arial\;">Mayor Vini Samuel\, Montesano</span></span></li>\n	<li style="margin: 0px\; padding: 0px\; list-style: disc\;"><span style="font-size:14px\;"><span style="font-family:arial\;">Mayor Crystal Dingler\, Ocean Shores</span></span></li>\n	<li style="margin: 0px\; padding: 0px\; list-style: disc\;"><span style="font-size:14px\;"><span style="font-family:arial\;">Mayor Rob Bearden\, Westport</span></span></li>\n</ul>\n\n<p style="margin: 0px\; padding: 0px\;"><span style="font-size:14px\;"><span style="font-family:arial\;">Please RSVP online through <a href="https://www.smore.com/mda40-lunch-with-the-mayors">this flyer</a> for each individual attending from your organization or call (360) 532-7888.</span></span></p>\n</div>\n
LOCATION:Rotary Log Pavilion 1401 Sargent Blvd Aberdeen\, WA
UID:e.26.12329
SEQUENCE:3
DTSTAMP:20260424T041916Z
URL:https://chamber.graysharbor.org/events/details/lunch-with-the-mayors-12329
END:VEVENT

END:VCALENDAR
