BEGIN:VCALENDAR
VERSION:2.0
PRODID:-//ChamberMaster//Event Calendar 2.0//EN
METHOD:PUBLISH
X-PUBLISHED-TTL:P3D
REFRESH-INTERVAL:P3D
CALSCALE:GREGORIAN
BEGIN:VEVENT
DTSTART:20180123T193000Z
DTEND:20180123T210000Z
X-MICROSOFT-CDO-ALLDAYEVENT:FALSE
SUMMARY:Lunch with the Mayors
DESCRIPTION:Grays Harbor Mayors Forecasting 2018\n\nJoin us for Greater Grays Harbor's first monthly Business Forum lunch of the New Year! This month's topic\, Lunch with the Mayors\, will provide the Grays Harbor community with an opportunity to hear directly from their elected officials. Each mayor will provide updates from their community and will discuss their upcoming priorities for 2018.\n\n\n\nInvited Municipal Officials\n\nMayor Erik Larson\, Aberdeen\n\nMayor Frank Chestnut\, Cosmopolis\n\nMayor Jim Sorenson\, Elma\n\nMayor Jasmine Dickhoff\, Hoquiam\n\nMayor Brent Schiller\, McCleary\n\nMayor Vini Samuel\, Montesano\n\nMayor Keith Francis\, Oakville\n\nMayor Crystal Dingler\, Ocean Shores\n\nMayor Rob Bearden\, Westport\n\n\n\nCost is $20 for members / $25 for non-members (lunch included).\n\nReservations are required by Wednesday January 17th\, 2018.\n\nPlease call 360-532-7888 to RSVP\, or simply RSVP online through the attached S'more flyer under 'Tickets' (please register for each individual attending from your organization).
X-ALT-DESC;FMTTYPE=text/html:<span style="color: rgb(75\, 79\, 86)\; font-family: Helvetica\, Arial\, sans-serif\; font-size: 14px\; background-color: rgb(255\, 255\, 255)\;">Grays Harbor Mayors Forecasting 2018</span><br style="color: rgb(75\, 79\, 86)\; font-family: Helvetica\, Arial\, sans-serif\; font-size: 14px\; background-color: rgb(255\, 255\, 255)\;" />\n<span style="color: rgb(75\, 79\, 86)\; font-family: Helvetica\, Arial\, sans-serif\; font-size: 14px\; background-color: rgb(255\, 255\, 255)\;">Join us for Greater Grays Harbor&#39\;s first monthly Business Forum lunch of the New Year! This month&#39\;s topic\, Lunch with the Mayors\, will provide the Grays Harbor community with an opportunity to hear directly from their elected officials. Each mayor will provide updates from their community and will discuss their upcoming priorities for 2018.</span><br style="color: rgb(75\, 79\, 86)\; font-family: Helvetica\, Arial\, sans-serif\; font-size: 14px\; background-color: rgb(255\, 255\, 255)\;" />\n<br style="color: rgb(75\, 79\, 86)\; font-family: Helvetica\, Arial\, sans-serif\; font-size: 14px\; background-color: rgb(255\, 255\, 255)\;" />\n<span style="color: rgb(75\, 79\, 86)\; font-family: Helvetica\, Arial\, sans-serif\; font-size: 14px\; background-color: rgb(255\, 255\, 255)\;">Invited Municipal Officials</span><br style="color: rgb(75\, 79\, 86)\; font-family: Helvetica\, Arial\, sans-serif\; font-size: 14px\; background-color: rgb(255\, 255\, 255)\;" />\n<span style="color: rgb(75\, 79\, 86)\; font-family: Helvetica\, Arial\, sans-serif\; font-size: 14px\; background-color: rgb(255\, 255\, 255)\;">Mayor Erik Larson\, Aberdeen</span><br style="color: rgb(75\, 79\, 86)\; font-family: Helvetica\, Arial\, sans-serif\; font-size: 14px\; background-color: rgb(255\, 255\, 255)\;" />\n<span style="color: rgb(75\, 79\, 86)\; font-family: Helvetica\, Arial\, sans-serif\; font-size: 14px\; background-color: rgb(255\, 255\, 255)\;">Mayor Frank Chestnut\, Cosmopolis</span><br style="color: rgb(75\, 79\, 86)\; font-family: Helvetica\, Arial\, sans-serif\; font-size: 14px\; background-color: rgb(255\, 255\, 255)\;" />\n<span style="color: rgb(75\, 79\, 86)\; font-family: Helvetica\, Arial\, sans-serif\; font-size: 14px\; background-color: rgb(255\, 255\, 255)\;">Mayor Jim Sorenson\, Elma</span><br style="color: rgb(75\, 79\, 86)\; font-family: Helvetica\, Arial\, sans-serif\; font-size: 14px\; background-color: rgb(255\, 255\, 255)\;" />\n<span style="color: rgb(75\, 79\, 86)\; font-family: Helvetica\, Arial\, sans-serif\; font-size: 14px\; background-color: rgb(255\, 255\, 255)\;">Mayor Jasmine Dickhoff\, Hoquiam</span><br style="color: rgb(75\, 79\, 86)\; font-family: Helvetica\, Arial\, sans-serif\; font-size: 14px\; background-color: rgb(255\, 255\, 255)\;" />\n<span style="color: rgb(75\, 79\, 86)\; font-family: Helvetica\, Arial\, sans-serif\; font-size: 14px\; background-color: rgb(255\, 255\, 255)\;">Mayor Brent Schiller\, McCleary</span><br style="color: rgb(75\, 79\, 86)\; font-family: Helvetica\, Arial\, sans-serif\; font-size: 14px\; background-color: rgb(255\, 255\, 255)\;" />\n<span style="color: rgb(75\, 79\, 86)\; font-family: Helvetica\, Arial\, sans-serif\; font-size: 14px\; background-color: rgb(255\, 255\, 255)\;">Mayor Vini Samuel\, Montesano</span><br style="color: rgb(75\, 79\, 86)\; font-family: Helvetica\, Arial\, sans-serif\; font-size: 14px\; background-color: rgb(255\, 255\, 255)\;" />\n<span style="color: rgb(75\, 79\, 86)\; font-family: Helvetica\, Arial\, sans-serif\; font-size: 14px\; background-color: rgb(255\, 255\, 255)\;">Mayor Keith Francis\, Oakville</span><br style="color: rgb(75\, 79\, 86)\; font-family: Helvetica\, Arial\, sans-serif\; font-size: 14px\; background-color: rgb(255\, 255\, 255)\;" />\n<span style="color: rgb(75\, 79\, 86)\; font-family: Helvetica\, Arial\, sans-serif\; font-size: 14px\; background-color: rgb(255\, 255\, 255)\;">Mayor Crystal Dingler\, Ocean Shores</span><br />\n<span class="text_exposed_show" style="display: inline\; font-family: Helvetica\, Arial\, sans-serif\; color: rgb(75\, 79\, 86)\; font-size: 14px\; background-color: rgb(255\, 255\, 255)\;">Mayor Rob Bearden\, Westport<br />\n<br />\nCost is $20 for members / $25 for non-members (lunch included).<br />\nReservations are required by Wednesday January 17th\, 2018.<br />\nPlease call 360-532-7888 to RSVP\, or simply RSVP online through the attached S&rsquo\;more flyer under &lsquo\;Tickets&rsquo\; (please register for each individual attending from your organization).</span>
LOCATION:Grays Harbor Country Club Aberdeen\, WA
UID:e.26.9479
SEQUENCE:3
DTSTAMP:20260425T145546Z
URL:https://chamber.graysharbor.org/events/details/lunch-with-the-mayors-9479
END:VEVENT

END:VCALENDAR
