BEGIN:VCALENDAR
VERSION:2.0
PRODID:-//ChamberMaster//Event Calendar 2.0//EN
METHOD:PUBLISH
X-PUBLISHED-TTL:P3D
REFRESH-INTERVAL:P3D
CALSCALE:GREGORIAN
BEGIN:VEVENT
DTSTART:20190818T020000Z
DTEND:20190818T033000Z
X-MICROSOFT-CDO-ALLDAYEVENT:FALSE
SUMMARY:Lyrica Ladies Choral Ensemble of Puget Sound Concert
DESCRIPTION:Dear friends\, Please add the following information to your public service announcements/community calendar. Lyrica Ladies Choral Ensemble of Puget Sound is a non-profit organization. Lyrica Ladies Choral Ensemble of Puget Sound\, directed by LeeAnne Campos presents a concert entitled\, "A World of our Creation" ~ In this broad Earth nestles the seed Perfection ~
X-ALT-DESC;FMTTYPE=text/html:Dear friends\, Please add the following information to your public service announcements/community calendar. Lyrica Ladies Choral Ensemble of Puget Sound is a non-profit organization. Lyrica Ladies Choral Ensemble of Puget Sound\, directed by LeeAnne Campos presents a concert entitled\, &quot\;A World of our Creation&quot\; ~ In this broad Earth nestles the seed Perfection ~
LOCATION:Aberdeen First United Methodist Church\, 2nd and Broadway
UID:e.26.12161
SEQUENCE:3
DTSTAMP:20260424T090854Z
URL:https://chamber.graysharbor.org/events/details/lyrica-ladies-choral-ensemble-of-puget-sound-concert-12161
END:VEVENT

END:VCALENDAR
