BEGIN:VCALENDAR
VERSION:2.0
PRODID:-//ChamberMaster//Event Calendar 2.0//EN
METHOD:PUBLISH
X-PUBLISHED-TTL:P3D
REFRESH-INTERVAL:P3D
CALSCALE:GREGORIAN
BEGIN:VEVENT
DTSTART:20170627T001500Z
DTEND:20170630T023000Z
X-MICROSOFT-CDO-ALLDAYEVENT:FALSE
SUMMARY:Maker Fun Factory VBS 2017
DESCRIPTION:Maker Fun Factory VBS 2017 June 26 - 29\, 2017 from 5:15 - 7:30 pm at First Presbyterian Church of Aberdeen! We are partnering with St. Andrew's\, 1st United Methodist and Amazing Grace! Dinner is included. Games\, music\, stories\, crafts! Ages 4 yrs - 6th grade. Cost is free. Please share this post with anyone who might be interested! Call 532-1330 for more informaation. Online registration is available at www.myvbs.org/funfactoryvbs2017/.
X-ALT-DESC;FMTTYPE=text/html:Maker Fun Factory VBS 2017 June 26 - 29\, 2017 from 5:15 - 7:30 pm at First Presbyterian Church of Aberdeen! We are partnering with St. Andrew&#39\;s\, 1st United Methodist&nbsp\;and Amazing Grace! Dinner is included. Games\, music\, stories\, crafts! Ages 4 yrs - 6th grade. Cost is free. Please share this post with anyone who might be interested! Call 532-1330 for more informaation. Online registration is available at www.myvbs.org/funfactoryvbs2017/.
LOCATION:First Presbyterian Church of Aberdeen 420 N Broadway Aberdeen\, WA 98520
UID:e.26.7678
SEQUENCE:3
DTSTAMP:20260426T015327Z
URL:https://chamber.graysharbor.org/events/details/maker-fun-factory-vbs-2017-7678
END:VEVENT

END:VCALENDAR
