BEGIN:VCALENDAR
VERSION:2.0
PRODID:-//ChamberMaster//Event Calendar 2.0//EN
METHOD:PUBLISH
X-PUBLISHED-TTL:P3D
REFRESH-INTERVAL:P3D
CALSCALE:GREGORIAN
BEGIN:VEVENT
DTSTART;VALUE=DATE:20210301
DTEND;VALUE=DATE:20210302
TRANSP:TRANSPARENT
X-MICROSOFT-CDO-ALLDAYEVENT:TRUE
SUMMARY:March Seabrook Glass Float Find
DESCRIPTION:Seabrook has continued their popular float find into spring! \n\nA simple and safe seasonal tradition to explore the outdoors. We hide two floats a day\, one with a posted clue and one without (for the more skilled hunters). If you find the float... it's yours to keep!\n\nWe will post the daily clues outside of the Cottage Rentals Check-in Office on Front Street\, as well as this page and @seabrookwa Instagram stories. \n\nThe Glass Float Find is an event that is open to everyone who enjoys their time in Seabrook. It's our goal is to create a fun hunt for people as they explore the town. If you have already found a float\, you can continue to hunt for new ones but we ask that you leave those floats for someone else to discover.\n\nMark going on this event to get the daily clue and stay up to date on this spring's find!
X-ALT-DESC;FMTTYPE=text/html:<div class="kvgmc6g5 cxmmr5t8 oygrvhab hcukyx3x c1et5uql" style="word-wrap: break-word\; margin: 0px\; font-family: system-ui\, -apple-system\, BlinkMacSystemFont\, &quot\;.SFNSText-Regular&quot\;\, sans-serif\; caret-color: rgb(5\, 5\, 5)\; color: rgb(5\, 5\, 5)\; font-size: 15px\;">Seabrook has continued their&nbsp\;popular float find into spring!&nbsp\;</div>\n\n<div class="o9v6fnle cxmmr5t8 oygrvhab hcukyx3x c1et5uql" style="word-wrap: break-word\; margin: 0.5em 0px 0px\; font-family: system-ui\, -apple-system\, BlinkMacSystemFont\, &quot\;.SFNSText-Regular&quot\;\, sans-serif\; caret-color: rgb(5\, 5\, 5)\; color: rgb(5\, 5\, 5)\; font-size: 15px\;">A simple and safe seasonal tradition to explore the outdoors. We hide two floats a day\, one with a posted clue and one without (for the more skilled hunters). If you find the float... it&#39\;s yours to keep!</div>\n\n<div class="o9v6fnle cxmmr5t8 oygrvhab hcukyx3x c1et5uql" style="word-wrap: break-word\; margin: 0.5em 0px 0px\; font-family: system-ui\, -apple-system\, BlinkMacSystemFont\, &quot\;.SFNSText-Regular&quot\;\, sans-serif\; caret-color: rgb(5\, 5\, 5)\; color: rgb(5\, 5\, 5)\; font-size: 15px\;">We will post the daily clues outside of the Cottage Rentals Check-in Office on Front Street\, as well as this page and @seabrookwa Instagram stories.&nbsp\;</div>\n\n<div class="o9v6fnle cxmmr5t8 oygrvhab hcukyx3x c1et5uql" style="word-wrap: break-word\; margin: 0.5em 0px 0px\; font-family: system-ui\, -apple-system\, BlinkMacSystemFont\, &quot\;.SFNSText-Regular&quot\;\, sans-serif\; caret-color: rgb(5\, 5\, 5)\; color: rgb(5\, 5\, 5)\; font-size: 15px\;">The Glass Float Find is an event that is open to everyone who enjoys their time in Seabrook. It&#39\;s&nbsp\;our goal is to create a fun hunt for people as they explore the town. If you have already found a float\,&nbsp\;you can continue to hunt for new ones but we ask that you leave those floats for someone else to discover.</div>\n\n<div class="o9v6fnle cxmmr5t8 oygrvhab hcukyx3x c1et5uql" style="word-wrap: break-word\; margin: 0.5em 0px 0px\; font-family: system-ui\, -apple-system\, BlinkMacSystemFont\, &quot\;.SFNSText-Regular&quot\;\, sans-serif\; caret-color: rgb(5\, 5\, 5)\; color: rgb(5\, 5\, 5)\; font-size: 15px\;">Mark going on this event to get the daily clue and stay up to date on this spring&#39\;s find!</div>\n
LOCATION:Seabrook Washington Pacific Beach
UID:e.26.12584
SEQUENCE:3
DTSTAMP:20260424T155029Z
URL:https://chamber.graysharbor.org/events/details/march-seabrook-glass-float-find-12584
END:VEVENT

END:VCALENDAR
