BEGIN:VCALENDAR
VERSION:2.0
PRODID:-//ChamberMaster//Event Calendar 2.0//EN
METHOD:PUBLISH
X-PUBLISHED-TTL:P3D
REFRESH-INTERVAL:P3D
CALSCALE:GREGORIAN
BEGIN:VEVENT
DTSTART:20170813T200000Z
DTEND:20170813T230000Z
X-MICROSOFT-CDO-ALLDAYEVENT:FALSE
SUMMARY:Margaret C. Murdach Archives Open House
DESCRIPTION:Join us for the dedication of the Margaret Cross Murdach Document and Photo Archives. See how we conserve and preserve up close!\n\n\n\n\n\nFacebook: https://www.facebook.com/events/125117091444866/?acontext=%7B%22ref%22%3A%223%22%2C%22ref_newsfeed_story_type%22%3A%22regular%22%2C%22feed_story_type%22%3A%22279%22%2C%22action_history%22%3A%22null%22%7D
X-ALT-DESC;FMTTYPE=text/html:<span style="color: rgb(75\, 79\, 86)\; font-family: Helvetica\, Arial\, sans-serif\; font-size: 14px\; background-color: rgb(255\, 255\, 255)\;">Join us for the dedication of the Margaret Cross Murdach Document and Photo Archives. See how we conserve and preserve up close!</span><br />\n<br />\n<br />\n<font color="#4b4f56" face="Helvetica\, Arial\, sans-serif"><span style="font-size: 14px\; background-color: rgb(255\, 255\, 255)\;">Facebook:&nbsp\;https://www.facebook.com/events/125117091444866/?acontext=%7B%22ref%22%3A%223%22%2C%22ref_newsfeed_story_type%22%3A%22regular%22%2C%22feed_story_type%22%3A%22279%22%2C%22action_history%22%3A%22null%22%7D</span></font>
LOCATION:Aberdeen Museum of History 111 3rd Street Aberdeen\, WA
UID:e.26.8155
SEQUENCE:3
DTSTAMP:20260425T230411Z
URL:https://chamber.graysharbor.org/events/details/margaret-c-murdach-archives-open-house-8155
END:VEVENT

END:VCALENDAR
