BEGIN:VCALENDAR
VERSION:2.0
PRODID:-//ChamberMaster//Event Calendar 2.0//EN
METHOD:PUBLISH
X-PUBLISHED-TTL:P3D
REFRESH-INTERVAL:P3D
CALSCALE:GREGORIAN
BEGIN:VEVENT
DTSTART;VALUE=DATE:20170915
DTEND;VALUE=DATE:20170918
TRANSP:TRANSPARENT
X-MICROSOFT-CDO-ALLDAYEVENT:TRUE
SUMMARY:Maritime Music Festival
DESCRIPTION:Come and enjoy great music\, vendors\, food\, and beer garden on the grounds of the Westport Maritime Museum. This 3 day music festival encompasses all genres of music.
X-ALT-DESC;FMTTYPE=text/html:<span style="font-size: 14px\;"><font color="#00008b">Come and enjoy great music\, vendors\, food\, and beer garden on the grounds of the Westport Maritime Museum. This 3 day music festival encompasses all genres of music.</font></span>
LOCATION:Westport Martime Museum Westport\, WA
UID:e.26.7630
SEQUENCE:3
DTSTAMP:20260425T213859Z
URL:https://chamber.graysharbor.org/events/details/maritime-music-festival-7630
END:VEVENT

END:VCALENDAR
