BEGIN:VCALENDAR
VERSION:2.0
PRODID:-//ChamberMaster//Event Calendar 2.0//EN
METHOD:PUBLISH
X-PUBLISHED-TTL:P3D
REFRESH-INTERVAL:P3D
CALSCALE:GREGORIAN
BEGIN:VEVENT
DTSTART:20190814T224500Z
DTEND:20190814T234500Z
X-MICROSOFT-CDO-ALLDAYEVENT:FALSE
SUMMARY:Mark Reed E&T Center Ribbon Cutting
DESCRIPTION:Greater Grays Harbor\, Inc. has a scheduled ribbon cutting for the Mark Reed E&T Center on August 14th at 3:45 pm! They are located at 322 S. Birch Street in McCleary.\n\nTelecare Corporation\, with the support of Great Rivers Behavioral Health Organization\, is pleased to announce the opening of the Center!\n\n\n\nOpening in late August\, the brand new 16-bed facility will provide recovery-centered inpatient care for individuals experiencing an acute behavioral health crisis. \n\n This is your opportunity to explore the facility before it officially opens.\n\nTours and light refreshments will also be available. After the ribbon cutting\, feel free to stay as their open house officially runs until 7pm.
X-ALT-DESC;FMTTYPE=text/html:<span style="font-size:14px\;"><span style="font-family:arial\;"><span style="caret-color: rgb(34\, 34\, 34)\; color: rgb(34\, 34\, 34)\;">Greater Grays Harbor\, Inc. has a scheduled ribbon cutting for the Mark Reed E&amp\;T Center on August 14</span><sup style="caret-color: rgb(34\, 34\, 34)\; color: rgb(34\, 34\, 34)\; font-family: Arial\, Helvetica\, sans-serif\;">th</sup><span style="caret-color: rgb(34\, 34\, 34)\; color: rgb(34\, 34\, 34)\;">&nbsp\;at 3:45 pm! They are located at 322 S. Birch Street in McCleary.</span></span></span>\n<div data-block="true" data-editor="4sbb0" data-offset-key="ff1hd-0-0" style="font-family: system-ui\, -apple-system\, BlinkMacSystemFont\, &quot\;.SFNSText-Regular&quot\;\, sans-serif\; caret-color: rgb(28\, 30\, 33)\; color: rgb(28\, 30\, 33)\; font-size: 12px\; white-space: pre-wrap\;">\n<div class="_1mf _1mj" data-offset-key="ff1hd-0-0" style="position: relative\; direction: ltr\; font-family: inherit\;"><span style="font-size:14px\;"><span style="font-family:arial\;"><span data-offset-key="ff1hd-0-0">Telecare Corporation\, with the support of Great Rivers Behavioral Health Organization\, is pleased to announce the opening of the Center!</span></span></span></div>\n</div>\n\n<div data-block="true" data-editor="4sbb0" data-offset-key="dok3e-0-0">\n<div class="_1mf _1mj" data-offset-key="dok3e-0-0" style="position: relative\; direction: ltr\;"><span data-offset-key="dok3e-0-0"><font color="#1c1e21" face="arial"><span style="caret-color: rgb(28\, 30\, 33)\; font-size: 14px\; white-space: pre-wrap\;">Opening in late August\, the brand new 16-bed facility will provide recovery-centered inpatient care for individuals experiencing an acute behavioral health crisis. </span></font><br />\n<span style="font-size:14px\;"><font color="#1c1e21" face="arial"><span style="caret-color: rgb(28\, 30\, 33)\; white-space: pre-wrap\;">&#8203\;This is your opportunity</span></font>&nbsp\;to explore the facility before it officially opens.<br />\nTours and light refreshments will also be available. After the ribbon cutting\, feel free to stay as their open house officially runs until 7pm.</span></span></div>\n</div>\n
LOCATION:322 S. Birch Street McCleary\, WA
UID:e.26.12139
SEQUENCE:3
DTSTAMP:20260424T091052Z
URL:https://chamber.graysharbor.org/events/details/mark-reed-e-t-center-ribbon-cutting-12139
END:VEVENT

END:VCALENDAR
