BEGIN:VCALENDAR
VERSION:2.0
PRODID:-//ChamberMaster//Event Calendar 2.0//EN
METHOD:PUBLISH
X-PUBLISHED-TTL:P3D
REFRESH-INTERVAL:P3D
CALSCALE:GREGORIAN
BEGIN:VEVENT
DTSTART:20190804T210000Z
DTEND:20190804T233000Z
X-MICROSOFT-CDO-ALLDAYEVENT:FALSE
SUMMARY:Matilda the Musical
DESCRIPTION:The 7th Street Kids presents Matilda the Musical. Come see this fabulous show based on the book by Roald Dahl. It has humor and fun for children and adults alike!
X-ALT-DESC;FMTTYPE=text/html:The 7th Street Kids presents Matilda the Musical. Come see this fabulous show based on the book by Roald Dahl. It has humor and fun for children and adults alike!
LOCATION:7th Street Theatre 313 7th Street Hoquiam\, WA . 98550
UID:e.26.12157
SEQUENCE:3
DTSTAMP:20260424T090340Z
URL:https://chamber.graysharbor.org/events/details/matilda-the-musical-08-04-2019-12157
END:VEVENT

END:VCALENDAR
