BEGIN:VCALENDAR
VERSION:2.0
PRODID:-//ChamberMaster//Event Calendar 2.0//EN
METHOD:PUBLISH
X-PUBLISHED-TTL:P3D
REFRESH-INTERVAL:P3D
CALSCALE:GREGORIAN
BEGIN:VEVENT
DTSTART:20190803T023000Z
DTEND:20190804T050000Z
X-MICROSOFT-CDO-ALLDAYEVENT:FALSE
SUMMARY:Matilda the Musical
DESCRIPTION:7th Street Kids presents Matilda the Musical based on the book by Roald Dahl. This is a fabulous show with fun and humor for any age. 7th Street Kids has been on the Harbor for 28 years.
X-ALT-DESC;FMTTYPE=text/html:<span style="font-family:arial\;"><span style="caret-color: rgb(34\, 34\, 34)\; color: rgb(34\, 34\, 34)\; background-color: rgb(255\, 255\, 255)\;">7th Street Kids presents Matilda the Musical based on the book by Roald Dahl. This is a fabulous show with fun and humor for any age. 7th Street Kids has been on the Harbor for 28 years.&nbsp\;</span></span>
LOCATION:7th Street Theatre 313 7th Street Hoquiam\, WA 98550
UID:e.26.12156
SEQUENCE:3
DTSTAMP:20260424T103450Z
URL:https://chamber.graysharbor.org/events/details/matilda-the-musical-12156
END:VEVENT

END:VCALENDAR
