BEGIN:VCALENDAR
VERSION:2.0
PRODID:-//ChamberMaster//Event Calendar 2.0//EN
METHOD:PUBLISH
X-PUBLISHED-TTL:P3D
REFRESH-INTERVAL:P3D
CALSCALE:GREGORIAN
BEGIN:VEVENT
DTSTART;VALUE=DATE:20170506
DTEND;VALUE=DATE:20170508
TRANSP:TRANSPARENT
X-MICROSOFT-CDO-ALLDAYEVENT:TRUE
SUMMARY:Matlock Old Timers Fair
DESCRIPTION:FREE EVENT:\n\n\n\nThe fair celebrates Matlock heritage in timber industry\, draft horses\, early day machines and motors\, blacksmithing\, antique booths\, kids activities\, handcraft items\, historical events\, agricultural events\, food\, fire wood raffle\, prizes\, and live music.\n\n\n\nBill Lindstrom\, the author of the latest John Tornow\, Villian or Victim book will be autographing books in the Museum. Its a story about: Murder. Incest. Sex. Intrigue. Implausible situations. Enigma. Unsolved mystery\, a century later. "Victim or Villain?" is the true story of events a century old. It sounds trite\, but it's true: you can't make this stuff up. John Tornow lived in the Matlock area.\n\n\n\nThe fair runs Saturday from 9:00 am- 6:00 pm and Sunday 10:00 am- 4:00 pm
X-ALT-DESC;FMTTYPE=text/html:<span class="_4n-j _3cht fsl" data-testid="event-permalink-details"><strong>FREE EVENT:</strong><br />\n<br />\nThe fair celebrates Matlock heritage in timber industry\, draft horses\, early day machines and motors\, blacksmithing\, antique booths\, kids activities\, handcraft items\, historical events\, agricultural events\, food\, fire wood raffle\, prizes\, and live music.<br />\n<br />\nBill Lindstrom\, the author of the latest John Tornow\, Villian or Victim book will be autographing books in the Museum. Its a story about: Murder. Incest. Sex. Intrigue. Implausible situations. Enigma. Unsolved mystery\, a century later. &ldquo\;Victim or Villain?&rdquo\; is the true story of events a century old. It sounds trite\, but it&rsquo\;s true: you can&rsquo\;t make this stuff up. John Tornow lived in the Matlock area.<br />\n<br />\n<em>The fair runs Saturday from 9:00 am- 6:00 pm and Sunday 10:00 am- 4:00 pm</em></span>
LOCATION:Mary M Knight High School 2987 W Matlock Brady Road Elma\, WA
UID:e.26.7697
SEQUENCE:3
DTSTAMP:20260426T032621Z
URL:https://chamber.graysharbor.org/events/details/matlock-old-timers-fair-7697
END:VEVENT

END:VCALENDAR
