BEGIN:VCALENDAR
VERSION:2.0
PRODID:-//ChamberMaster//Event Calendar 2.0//EN
METHOD:PUBLISH
X-PUBLISHED-TTL:P3D
REFRESH-INTERVAL:P3D
CALSCALE:GREGORIAN
BEGIN:VEVENT
DTSTART:20190714T190000Z
DTEND:20190714T190000Z
X-MICROSOFT-CDO-ALLDAYEVENT:FALSE
SUMMARY:McCleary Car Show
DESCRIPTION:The 60th annual McCleary Bear Festival is hosting the annual car show on Sunday July 14th. $15 Pre-Registration (Must be received by June 10th) $20 Registration if received after June 10 We are accepting registration the day of the event (subject to availability) Gates open at 8am\, no earlier. Complete application found online at http://mcclearybearfestival.org/ and return with check or cash made payable to: McCleary Bear Festival PO Box 408 McCleary\, WA 98557 Or online at: https://www.eventbrite.com/e/mccleary-2nd-annual-car-show-tickets-50040630874 Questions? Please call Tiana Fuller @ (562)328-4058 or e-mail tianamccrae@gmail.com
X-ALT-DESC;FMTTYPE=text/html:The 60th annual McCleary Bear Festival is hosting the annual car show on Sunday July 14th. $15 Pre-Registration (Must be received by June 10th) $20 Registration if received after June 10 We are accepting registration the day of the event (subject to availability) Gates open at 8am\, no earlier. Complete application found online at http://mcclearybearfestival.org/ and return with check or cash made payable to: McCleary Bear Festival PO Box 408 McCleary\, WA 98557 Or online at: https://www.eventbrite.com/e/mccleary-2nd-annual-car-show-tickets-50040630874 Questions? Please call Tiana Fuller @ (562)328-4058 or e-mail tianamccrae@gmail.com
LOCATION:400 W Simpson ave McCleary\, WA
UID:e.26.11790
SEQUENCE:3
DTSTAMP:20260424T104147Z
URL:https://chamber.graysharbor.org/events/details/mccleary-car-show-11790
END:VEVENT

END:VCALENDAR
