BEGIN:VCALENDAR
VERSION:2.0
PRODID:-//ChamberMaster//Event Calendar 2.0//EN
METHOD:PUBLISH
X-PUBLISHED-TTL:P3D
REFRESH-INTERVAL:P3D
CALSCALE:GREGORIAN
BEGIN:VEVENT
DTSTART:20190221T020000Z
DTEND:20190221T030000Z
X-MICROSOFT-CDO-ALLDAYEVENT:FALSE
SUMMARY:McCleary Civic Renewal Council Meeting
DESCRIPTION:McCleary Civic Renewal Council Meeting - February 20\, 2019 at 6:00 p.m. at the McCleary Community Center
X-ALT-DESC;FMTTYPE=text/html:<strong style="font-family: &quot\;Times New Roman&quot\;\, serif\; font-size: 15.333333015441895px\;">McCleary Civic Renewal Council Meeting</strong><span style="font-family: &quot\;Times New Roman&quot\;\, serif\; font-size: 15.333333015441895px\;">&nbsp\;- February 20\, 2019 at 6:00 p.m. at the McCleary Community Center</span>
LOCATION:McCleary Community Center 726 W Simpson Ave\, McCleary\, WA 98557
UID:e.26.11753
SEQUENCE:3
DTSTAMP:20260424T194606Z
URL:https://chamber.graysharbor.org/events/details/mccleary-civic-renewal-council-meeting-11753
END:VEVENT

END:VCALENDAR
