BEGIN:VCALENDAR
VERSION:2.0
PRODID:-//ChamberMaster//Event Calendar 2.0//EN
METHOD:PUBLISH
X-PUBLISHED-TTL:P3D
REFRESH-INTERVAL:P3D
CALSCALE:GREGORIAN
BEGIN:VEVENT
DTSTART:20190824T170000Z
DTEND:20190824T210000Z
X-MICROSOFT-CDO-ALLDAYEVENT:FALSE
SUMMARY:McCleary Saturday Market
DESCRIPTION:Bring the kids for Chalk Art Day at the Market! Come decorate the ground with colorful fun.\n\nCome support local vendors and learn about what is going on in the community while picking up fresh produce and other unique items!\n\n\n\nVendors & Local Organizations: You can still join us. You can find the vendor application here: https://drive.google.com/open?id=1ztmOcZjkctzgefV4cg8bWtMeUun5CVq3
X-ALT-DESC;FMTTYPE=text/html:<span style="font-size:14px\;"><span style="font-family:arial\;"><span style="caret-color: rgb(29\, 33\, 41)\; color: rgb(29\, 33\, 41)\; white-space: pre-wrap\;">Bring the kids for Chalk Art Day at the Market! Come decorate the ground with colorful fun.</span><br style="caret-color: rgb(29\, 33\, 41)\; color: rgb(29\, 33\, 41)\; font-family: system-ui\, -apple-system\, BlinkMacSystemFont\, &quot\;.SFNSText-Regular&quot\;\, sans-serif\; white-space: pre-wrap\;" />\n<font color="#1d2129" style="font-family: Arial\, sans-serif\;"><span style="white-space: pre-wrap\;">Come support local vendors and learn about what is going on in the community while picking up fresh produce and other unique items!</span></font><br />\n<br />\n<span style="caret-color: rgb(29\, 33\, 41)\; color: rgb(29\, 33\, 41)\; white-space: pre-wrap\;"><strong>Vendors &amp\; Local Organizations: </strong>You can still join us. You can find the vendor application here: </span><a data-lynx-mode="hover" data-lynx-uri="https://l.facebook.com/l.php?u=https%3A%2F%2Fdrive.google.com%2Fopen%3Fid%3D1ztmOcZjkctzgefV4cg8bWtMeUun5CVq3%26fbclid%3DIwAR2HoJrkXYDXFxJVRZHQUnjlYeWRawvWx6hQcZ-gNYJwv8F_LkYwswbFyZ8&amp\;h=AT0e6eHMpnKCKeVQUnzT3OCUJLTImSYCw6YmNsWJmqDBJevG8vcgJo4A-yDmwo0K02hLNLZndN9y-urZm-mYV8LHVXHs_3AFPMB9aeqfSpVow5Z0qSDhTLlmDzElbVo2VEm1H3vi8w" href="https://drive.google.com/open?id=1ztmOcZjkctzgefV4cg8bWtMeUun5CVq3&amp\;fbclid=IwAR2HoJrkXYDXFxJVRZHQUnjlYeWRawvWx6hQcZ-gNYJwv8F_LkYwswbFyZ8" rel="nofollow noopener" style="color: rgb(56\, 88\, 152)\; cursor: pointer\; text-decoration: none\; font-family: system-ui\, -apple-system\, BlinkMacSystemFont\, &quot\;.SFNSText-Regular&quot\;\, sans-serif\; font-size: 14px\; white-space: pre-wrap\;" target="_blank">https://drive.google.com/open?id=1ztmOcZjkctzgefV4cg8bWtMeUun5CVq3</a></span></span>
LOCATION:pin Beerbower Park McCleary\, Washington 98557
UID:e.26.12105
SEQUENCE:3
DTSTAMP:20260424T104303Z
URL:https://chamber.graysharbor.org/events/details/mccleary-saturday-market-12105
END:VEVENT

END:VCALENDAR
