BEGIN:VCALENDAR
VERSION:2.0
PRODID:-//ChamberMaster//Event Calendar 2.0//EN
METHOD:PUBLISH
X-PUBLISHED-TTL:P3D
REFRESH-INTERVAL:P3D
CALSCALE:GREGORIAN
BEGIN:VEVENT
DTSTART:20190727T170000Z
DTEND:20190727T210000Z
X-MICROSOFT-CDO-ALLDAYEVENT:FALSE
SUMMARY:McCleary Saturday Markets
DESCRIPTION:Shoppers: Come support local vendors and learn about what is going on in McCleary! Pick up some fresh produce and other unique products.\n\n\n\nVendors & Local Organizations: You can still join us! Find the vendor application here: https://drive.google.com/open?id=1ztmOcZjkctzgefV4cg8bWtMeUun5CVq3
X-ALT-DESC;FMTTYPE=text/html:<span style="caret-color: rgb(29\, 33\, 41)\; color: rgb(29\, 33\, 41)\; font-family: system-ui\, -apple-system\, BlinkMacSystemFont\, &quot\;.SFNSText-Regular&quot\;\, sans-serif\; font-size: 14px\; white-space: pre-wrap\;"><strong>Shoppers: </strong>Come support local vendors and learn about what is going on in McCleary! Pick up some fresh produce and other unique products.</span><br style="caret-color: rgb(29\, 33\, 41)\; color: rgb(29\, 33\, 41)\; font-family: system-ui\, -apple-system\, BlinkMacSystemFont\, &quot\;.SFNSText-Regular&quot\;\, sans-serif\; font-size: 14px\; white-space: pre-wrap\;" />\n<br style="caret-color: rgb(29\, 33\, 41)\; color: rgb(29\, 33\, 41)\; font-family: system-ui\, -apple-system\, BlinkMacSystemFont\, &quot\;.SFNSText-Regular&quot\;\, sans-serif\; font-size: 14px\; white-space: pre-wrap\;" />\n<span style="caret-color: rgb(29\, 33\, 41)\; color: rgb(29\, 33\, 41)\; font-family: system-ui\, -apple-system\, BlinkMacSystemFont\, &quot\;.SFNSText-Regular&quot\;\, sans-serif\; font-size: 14px\; white-space: pre-wrap\;"><strong>Vendors &amp\; Local Organizations: </strong>You can still join us! Find the vendor application here: </span><a data-lynx-mode="hover" data-lynx-uri="https://l.facebook.com/l.php?u=https%3A%2F%2Fdrive.google.com%2Fopen%3Fid%3D1ztmOcZjkctzgefV4cg8bWtMeUun5CVq3%26fbclid%3DIwAR0rCI35yeeUucrb665CXOcJnqCXboeodgT9rGrZ8GiAg9syHaj522AXWrw&amp\;h=AT0ZfAXcua4eJ0VCPvkZjY_kOxtvKt5QTOZFo3ebuRaIkIxbrw-D7pqkhRh3-iRdz9IC58SRwtx8a7WMeV_-nZZIaXS_JksTk3oWTNEdQmM7_EzeuxKYhkeGVjt34T9ZSIKEGe4v0Q" href="https://drive.google.com/open?id=1ztmOcZjkctzgefV4cg8bWtMeUun5CVq3&amp\;fbclid=IwAR0rCI35yeeUucrb665CXOcJnqCXboeodgT9rGrZ8GiAg9syHaj522AXWrw" rel="nofollow noopener" style="color: rgb(56\, 88\, 152)\; cursor: pointer\; text-decoration: none\; font-family: system-ui\, -apple-system\, BlinkMacSystemFont\, &quot\;.SFNSText-Regular&quot\;\, sans-serif\; font-size: 14px\; white-space: pre-wrap\;" target="_blank">https://drive.google.com/open?id=1ztmOcZjkctzgefV4cg8bWtMeUun5CVq3</a>
LOCATION:pin Beerbower Park McCleary\, Washington 98557
UID:e.26.12104
SEQUENCE:3
DTSTAMP:20260424T115132Z
URL:https://chamber.graysharbor.org/events/details/mccleary-saturday-markets-12104
END:VEVENT

END:VCALENDAR
