BEGIN:VCALENDAR
VERSION:2.0
PRODID:-//ChamberMaster//Event Calendar 2.0//EN
METHOD:PUBLISH
X-PUBLISHED-TTL:P3D
REFRESH-INTERVAL:P3D
CALSCALE:GREGORIAN
BEGIN:VEVENT
DTSTART:20170804T220000Z
DTEND:20170805T000000Z
X-MICROSOFT-CDO-ALLDAYEVENT:FALSE
SUMMARY:Metro PCS Ribbon Cutting
DESCRIPTION:Greater Grays Harbor\, Inc. will be at Metro PCS in Hoquiam to celebrate their new location with a ribbon cutting! \n\n\n\nAddress: 824 Simpson Ave. Hoquiam\, WA\n\nDate: Friday\, August 4th\, 2017 at 3 PM\n\n\n\nLearn more about their services here: www.metropcs.com
X-ALT-DESC;FMTTYPE=text/html:<span style="color: rgb(75\, 79\, 86)\; font-family: Helvetica\, Arial\, sans-serif\; font-size: 14px\; background-color: rgb(255\, 255\, 255)\;">Greater Grays Harbor\, Inc. will be at Metro PCS in Hoquiam to celebrate their new location with a ribbon cutting!&nbsp\;</span><br style="color: rgb(75\, 79\, 86)\; font-family: Helvetica\, Arial\, sans-serif\; font-size: 14px\; background-color: rgb(255\, 255\, 255)\;" />\n<br style="color: rgb(75\, 79\, 86)\; font-family: Helvetica\, Arial\, sans-serif\; font-size: 14px\; background-color: rgb(255\, 255\, 255)\;" />\n<span style="color: rgb(75\, 79\, 86)\; font-family: Helvetica\, Arial\, sans-serif\; font-size: 14px\; background-color: rgb(255\, 255\, 255)\;">Address: 824 Simpson Ave. Hoquiam\, WA</span><br style="color: rgb(75\, 79\, 86)\; font-family: Helvetica\, Arial\, sans-serif\; font-size: 14px\; background-color: rgb(255\, 255\, 255)\;" />\n<span style="color: rgb(75\, 79\, 86)\; font-family: Helvetica\, Arial\, sans-serif\; font-size: 14px\; background-color: rgb(255\, 255\, 255)\;">Date: Friday\, August 4th\, 2017 at 3 PM</span><br style="color: rgb(75\, 79\, 86)\; font-family: Helvetica\, Arial\, sans-serif\; font-size: 14px\; background-color: rgb(255\, 255\, 255)\;" />\n<br style="color: rgb(75\, 79\, 86)\; font-family: Helvetica\, Arial\, sans-serif\; font-size: 14px\; background-color: rgb(255\, 255\, 255)\;" />\n<span style="color: rgb(75\, 79\, 86)\; font-family: Helvetica\, Arial\, sans-serif\; font-size: 14px\; background-color: rgb(255\, 255\, 255)\;">Learn more about their services here:&nbsp\;</span><a href="http://www.metropcs.com/" rel="nofollow noopener nofollow" style="color: rgb(54\, 88\, 153)\; cursor: pointer\; text-decoration-line: none\; font-family: Helvetica\, Arial\, sans-serif\; font-size: 14px\; background-color: rgb(255\, 255\, 255)\;" target="_blank">www.metropcs.com</a>
LOCATION:Metro PCS 824 Simpson Ave Hoquiam\, WA
UID:e.26.8068
SEQUENCE:3
DTSTAMP:20260426T003023Z
URL:https://chamber.graysharbor.org/events/details/metro-pcs-ribbon-cutting-8068
END:VEVENT

END:VCALENDAR
