BEGIN:VCALENDAR
VERSION:2.0
PRODID:-//ChamberMaster//Event Calendar 2.0//EN
METHOD:PUBLISH
X-PUBLISHED-TTL:P3D
REFRESH-INTERVAL:P3D
CALSCALE:GREGORIAN
BEGIN:VEVENT
DTSTART:20190609T000000Z
DTEND:20190609T040000Z
X-MICROSOFT-CDO-ALLDAYEVENT:FALSE
SUMMARY:Michael and Ben - One Night Only!
DESCRIPTION:Michael and Ben will be performing the music of Sinatra\, Martin\, Darin\, and more. Come on down to the amazing Hoquiam Brewery for a beer and pizza. Family friendly event!\n\n\n\nFirst show is 5-6pm\n\nSecond show 7-8pm
X-ALT-DESC;FMTTYPE=text/html:<span style="font-family:arial\;"><span style="font-size:14px\;"><span style="caret-color: rgb(29\, 33\, 41)\; color: rgb(29\, 33\, 41)\; white-space: pre-wrap\;">Michael and Ben will be performing the music of Sinatra\, Martin\, Darin\, and more. Come on down to the amazing Hoquiam Brewery for a beer and pizza. Family friendly event!</span><br style="caret-color: rgb(29\, 33\, 41)\; color: rgb(29\, 33\, 41)\; font-family: system-ui\, -apple-system\, BlinkMacSystemFont\, &quot\;.SFNSText-Regular&quot\;\, sans-serif\; font-size: 14px\; white-space: pre-wrap\;" />\n<br style="caret-color: rgb(29\, 33\, 41)\; color: rgb(29\, 33\, 41)\; font-family: system-ui\, -apple-system\, BlinkMacSystemFont\, &quot\;.SFNSText-Regular&quot\;\, sans-serif\; font-size: 14px\; white-space: pre-wrap\;" />\n<span style="caret-color: rgb(29\, 33\, 41)\; color: rgb(29\, 33\, 41)\; white-space: pre-wrap\;">First show is 5-6pm</span><br style="caret-color: rgb(29\, 33\, 41)\; color: rgb(29\, 33\, 41)\; font-family: system-ui\, -apple-system\, BlinkMacSystemFont\, &quot\;.SFNSText-Regular&quot\;\, sans-serif\; font-size: 14px\; white-space: pre-wrap\;" />\n<span style="caret-color: rgb(29\, 33\, 41)\; color: rgb(29\, 33\, 41)\; white-space: pre-wrap\;">Second show 7-8pm</span></span></span>
LOCATION:pin Hoquiam Brewing Co.\, Inc. 526 8th St\, Hoquiam\, Washington 98550
UID:e.26.12044
SEQUENCE:3
DTSTAMP:20260424T115913Z
URL:https://chamber.graysharbor.org/events/details/michael-and-ben-one-night-only-12044
END:VEVENT

END:VCALENDAR
