BEGIN:VCALENDAR
VERSION:2.0
PRODID:-//ChamberMaster//Event Calendar 2.0//EN
METHOD:PUBLISH
X-PUBLISHED-TTL:P3D
REFRESH-INTERVAL:P3D
CALSCALE:GREGORIAN
BEGIN:VEVENT
DTSTART:20260117T050000Z
DTEND:20260118T070000Z
X-MICROSOFT-CDO-ALLDAYEVENT:FALSE
SUMMARY:Michael Winslow Comedy Event
DESCRIPTION:Michael Winslow an American actor\, comedian\, and beat boxer billed as The Man of 10\,000 Sound Effects for his ability to make realistic sounds using only his voice. He is best known for his roles in Police Academy. He has also appeared in: Spaceballs\, Cheech and Chong's Next Movie\, Nice Dreams and more! Get your tickets early on Eventbrite or take your chances at the door.\n\nID check 21+ First Come First Seat choice.
X-ALT-DESC;FMTTYPE=text/html:<span style="font-size:14px\;"><span style="font-family:arial\;"><span style="color: rgb(8\, 8\, 9)\;">Michael Winslow an American actor\, comedian\, and beat boxer billed as The Man of 10\,000 Sound Effects for his ability to make realistic sounds using only his voice. He is best known for his roles in Police Academy. He has also appeared in: Spaceballs\, Cheech and Chong&#39\;s Next Movie\, Nice Dreams and more! Get your tickets early on Eventbrite or take your chances at the door.<br />\nID check 21+ First Come First Seat choice.</span></span></span>
LOCATION:212 S I St Aberdeen\, WA
UID:e.26.16373
SEQUENCE:3
DTSTAMP:20260423T191828Z
URL:https://chamber.graysharbor.org/events/details/michael-winslow-comedy-event-16373
END:VEVENT

END:VCALENDAR
