BEGIN:VCALENDAR
VERSION:2.0
PRODID:-//ChamberMaster//Event Calendar 2.0//EN
METHOD:PUBLISH
X-PUBLISHED-TTL:P3D
REFRESH-INTERVAL:P3D
CALSCALE:GREGORIAN
BEGIN:VEVENT
DTSTART;VALUE=DATE:20170818
DTEND;VALUE=DATE:20170821
TRANSP:TRANSPARENT
X-MICROSOFT-CDO-ALLDAYEVENT:TRUE
SUMMARY:Mighty Alliance Fan Fest & Beach Party
DESCRIPTION:3rd Annual Mighty Alliance Fan Fest & Beach Party\nThe Mighty Alliance & Planning Team invites you and your family out to the 3rd Annual Mighty Alliance Fan Fest & Beach Party! From August 18th   20th 2017\, Ocean Shores\, Washington will be invaded by 12s from everywhere. You won't want to miss it. This event will be even bigger and better than the last.\n\n\n\nWe are partnering with the Quinault Beach Resort & Casino (http://www.quinaultbeachresort.com/) again this year and have obtained the Ocean Shores Convention Center for the entire weekend. The Convention Center will hold in excess of 1000 people or more inside for some of the free shows along with various other things that are still in the planning stage. We will also have a 500 person beer garden adjacent to t...he convention center.\n\n\n\nYou may come for a day\, a night or the entire weekend as there will be activities going on though-out the weekend in town and on the beach. The best part is\, there is no charge to come and enjoy yourselves.\n\n\n\nThere will be stage shows with live bands\, Kids' Zone\, Hawked out vehicles\, beach activities\, scavenger hunts\, guest appearances\, super fans and more\, which are all free to everyone.\n\n\n\nAre you interested in being a vendor or would like to showcase your business or charity? Please email Anna at: anamac247@yahoo.com.\n\n\n\nOnce we get a bit closer\, the Quinault Beach Resort & Casino will be selling an event T-Shirt at a low cost. We will post the link here on the event page.\n\n\n\nBack by popular demad will be a 9-Hole scramble golf tournament with speacial guests\, prizes and trophies for the top 3 teams. It will be on Saturday\, August 19th beginning at 8:00 a.m.\n\n\n\nOn Friday and Saturday nights\, there will be pub crawls for the adults. There will also be live DJ music at the Convention Center\, which os family friendly.\n\n\n\nAny money raised over and above our expenses will be split between two charities\, Grays Harbor Youth Sports Foundation and one other\, which has yet to be decided. There will also be a collection area for non perishables to be donated to the Ocean Shores Food Bank. This is our way of giving back to the city for hosting this event.\n\n\n\nThere are many ways businesses can also get involved with donations and sponsorship. If you wish to do so\, please contact any of the Alliance Team Members listed above as one of the hosts.\n\n\n\nAgain we look forward to seeing everyone out at Ocean Shores to kick off our beloved Seahawks' 2017 season with a BEACH PARTY!
X-ALT-DESC;FMTTYPE=text/html:3rd Annual Mighty Alliance Fan Fest &amp\; Beach Party\n<div class="text_exposed_root text_exposed" id="id_5936f2bb5641c6f19588888"><span class="_4n-j _fbReactionComponent__eventDetailsContentTags fsl" data-testid="event-permalink-details">The Mighty Alliance &amp\; Planning Team invites you and your family out to the 3rd Annual Mighty Alliance Fan Fest &amp\; Beach Party! From August 18th &ndash\; 20th 2017\, Ocean Shores\, Washington will be invaded by 12s from everywhere. You won&#39\;t want to miss it. This event will be even bigger and better than the last.<br />\n<br />\nWe are partnering with the Quinault Beach Resort &amp\; Casino (<a href="https://l.facebook.com/l.php?u=http%3A%2F%2Fwww.quinaultbeachresort.com%2F&amp\;h=ATMR0r-UORkhImvzXlvbkVppc5k00vcPVG3PrveHxfIFC1uigP5thqEsIjprUO0FHXMfE3780czYvuVmuA6QV88HQic5EVXgpaWplocl5KKwcY1GtzxTRKskGs-ivD3IdbWOnzYkkI8&amp\;enc=AZPVOtb-QdWi8oqgf32JG_e-zCSbkM48QYzw_fLMZcKoWT1nxFiy015FO9MteLq_g7s&amp\;s=1" rel="nofollow nofollow" target="_blank"><font color="#0066cc"><span>http://</span><wbr /><span>www.quinaultbeachresort.com</span><wbr /></font><font color="#0066cc">/</font></a>) again this year and have obtained the Ocean Shores Convention Center for the entire weekend. The Convention Center will hold in excess of 1000 people or more inside for some of the free shows along with various other things that are still in the planning stage. We will also have a 500 person beer garden adjacent to t<span class="text_exposed_hide">...</span><span class="text_exposed_show">he convention center.<br />\n<br />\nYou may come for a day\, a night or the entire weekend as there will be activities going on though-out the weekend in town and on the beach. The best part is\, there is no charge to come and enjoy yourselves.<br />\n<br />\nThere will be stage shows with live bands\, Kids&#39\; Zone\, Hawked out vehicles\, beach activities\, scavenger hunts\, guest appearances\, super fans and more\, which are all free to everyone.<br />\n<br />\nAre you interested in being a vendor or would like to showcase your business or charity? Please email Anna at: anamac247@yahoo.com.<br />\n<br />\nOnce we get a bit closer\, the Quinault Beach Resort &amp\; Casino will be selling an event T-Shirt at a low cost. We will post the link here on the event page.<br />\n<br />\nBack by popular demad will be a 9-Hole scramble golf tournament with speacial guests\, prizes and trophies for the top 3 teams. It will be on Saturday\, August 19th beginning at 8:00 a.m.<br />\n<br />\nOn Friday and Saturday nights\, there will be pub crawls for the adults. There will also be live DJ music at the Convention Center\, which os family friendly.<br />\n<br />\nAny money raised over and above our expenses will be split between two charities\, Grays Harbor Youth Sports Foundation and one other\, which has yet to be decided. There will also be a collection area for non perishables to be donated to the Ocean Shores Food Bank. This is our way of giving back to the city for hosting this event.<br />\n<br />\nThere are many ways businesses can also get involved with donations and sponsorship. If you wish to do so\, please contact any of the Alliance Team Members listed above as one of the hosts.<br />\n<br />\nAgain we look forward to seeing everyone out at Ocean Shores to kick off our beloved Seahawks&#39\; 2017 season with a BEACH PARTY!</span></span></div>\n
LOCATION:Ocean Shores Convetion Center 120 W Chance A la Mer NW Ocean Shores\, WA
UID:e.26.7714
SEQUENCE:3
DTSTAMP:20260425T230658Z
URL:https://chamber.graysharbor.org/events/details/mighty-alliance-fan-fest-beach-party-7714
END:VEVENT

END:VCALENDAR
