BEGIN:VCALENDAR
VERSION:2.0
PRODID:-//ChamberMaster//Event Calendar 2.0//EN
METHOD:PUBLISH
X-PUBLISHED-TTL:P3D
REFRESH-INTERVAL:P3D
CALSCALE:GREGORIAN
BEGIN:VEVENT
DTSTART:20190324T210000Z
DTEND:20190324T230000Z
X-MICROSOFT-CDO-ALLDAYEVENT:FALSE
SUMMARY:Miho & Diego Duo
DESCRIPTION:Sounds of Japan & Latin America\n\nThe Miho & Diego Duo have been boldly blending Latin and Japanese musical traditions since 2006. Miho Takekawa and Diego Coy joined together after years of admiring each other's work and discovering that their sounds could be combined to make something genuinely new and unique. Their primary goal is to encourage cultural understanding through music.
X-ALT-DESC;FMTTYPE=text/html:<p class="lead" style="box-sizing: inherit\; margin-top: 0px\; margin-bottom: 1rem\; font-size: 1.25rem\; font-family: Lato\, sans-serif\; color: rgb(102\, 102\, 102) !important\;">Sounds of Japan &amp\; Latin America</p>\n\n<p style="font-size: 16px\; box-sizing: inherit\; margin-top: 0px\; margin-bottom: 1rem\; caret-color: rgb(41\, 43\, 44)\; color: rgb(41\, 43\, 44)\; font-family: Lato\, sans-serif\;"><span style="box-sizing: inherit\;">The Miho &amp\; Diego Duo</span>&nbsp\;have been boldly blending Latin and Japanese musical traditions since 2006. Miho Takekawa and Diego Coy joined together after years of admiring each other&#39\;s work and discovering that their sounds could be combined to make something genuinely new and unique. Their primary goal is to encourage cultural understanding through music.&nbsp\;</p>\n
LOCATION:Bishop Center for the Performing Arts 1620 Edward P. Smith Dr. Aberdeen\, WA
UID:e.26.11664
SEQUENCE:3
DTSTAMP:20260424T163355Z
URL:https://chamber.graysharbor.org/events/details/miho-diego-duo-11664
END:VEVENT

END:VCALENDAR
