BEGIN:VCALENDAR
VERSION:2.0
PRODID:-//ChamberMaster//Event Calendar 2.0//EN
METHOD:PUBLISH
X-PUBLISHED-TTL:P3D
REFRESH-INTERVAL:P3D
CALSCALE:GREGORIAN
BEGIN:VEVENT
DTSTART:20180929T190000Z
DTEND:20180929T200000Z
X-MICROSOFT-CDO-ALLDAYEVENT:FALSE
SUMMARY:Mill Creek Dam Ribbon Cutting
DESCRIPTION:Mill Creek Dam ribbon cutting ceremony will be this Saturday\, September 29th at 12:00 p.m.
X-ALT-DESC;FMTTYPE=text/html:<div class="_5pbx userContent _3576" data-ft="{&quot\;tn&quot\;:&quot\;K&quot\;}" id="js_p" style="background-color: transparent\; color: rgb(29\, 33\, 41)\; font-family: Helvetica\,Arial\,sans-serif\; font-size: 14px\; font-style: normal\; font-variant: normal\; font-weight: 400\; letter-spacing: normal\; line-height: 19.32px\; margin-top: 6px\; orphans: 2\; text-align: left\; text-decoration: none\; text-indent: 0px\; text-transform: none\; -webkit-text-stroke-width: 0px\; white-space: normal\; word-spacing: 0px\;">\n<p style="display: inline\; font-family: Helvetica\,Arial\,sans-serif\; margin-bottom: 0px\; margin-left: 0px\; margin-right: 0px\; margin-top: 0px\;">Mill Creek Dam ribbon cutting ceremony will be this Saturday\, September 29th at 12:00 p.m.</p>\n</div>\n
LOCATION:Mill Creek Park Cosmopolis\, WA
UID:e.26.11274
SEQUENCE:3
DTSTAMP:20260425T015608Z
URL:https://chamber.graysharbor.org/events/details/mill-creek-dam-ribbon-cutting-11274
END:VEVENT

END:VCALENDAR
