BEGIN:VCALENDAR
VERSION:2.0
PRODID:-//ChamberMaster//Event Calendar 2.0//EN
METHOD:PUBLISH
X-PUBLISHED-TTL:P3D
REFRESH-INTERVAL:P3D
CALSCALE:GREGORIAN
BEGIN:VEVENT
DTSTART:20190608T170000Z
DTEND:20190608T200000Z
X-MICROSOFT-CDO-ALLDAYEVENT:FALSE
SUMMARY:Mill Creek Park Work Party
DESCRIPTION:On Saturday June 8th Grays Harbor Stream Team will be teaming up with the City of Cosmopolis to remove invasive species from Mill Creek Park. \n\n\n\nLook for the blue Grays Harbor Stream Team tent where you will sign in and where coffee\, donuts\, snacks\, and water will be provided. There will also be gloves\, clippers and loppers for volunteers to use.
X-ALT-DESC;FMTTYPE=text/html:<span style="caret-color: rgb(29\, 33\, 41)\; color: rgb(29\, 33\, 41)\; font-family: system-ui\, -apple-system\, BlinkMacSystemFont\, &quot\;.SFNSText-Regular&quot\;\, sans-serif\; font-size: 14px\; white-space: pre-wrap\;">On Saturday June 8th Grays Harbor Stream Team will be teaming up with the City of Cosmopolis to remove invasive species from Mill Creek Park. </span><br style="caret-color: rgb(29\, 33\, 41)\; color: rgb(29\, 33\, 41)\; font-family: system-ui\, -apple-system\, BlinkMacSystemFont\, &quot\;.SFNSText-Regular&quot\;\, sans-serif\; font-size: 14px\; white-space: pre-wrap\;" />\n<br style="caret-color: rgb(29\, 33\, 41)\; color: rgb(29\, 33\, 41)\; font-family: system-ui\, -apple-system\, BlinkMacSystemFont\, &quot\;.SFNSText-Regular&quot\;\, sans-serif\; font-size: 14px\; white-space: pre-wrap\;" />\n<span style="caret-color: rgb(29\, 33\, 41)\; color: rgb(29\, 33\, 41)\; font-family: system-ui\, -apple-system\, BlinkMacSystemFont\, &quot\;.SFNSText-Regular&quot\;\, sans-serif\; font-size: 14px\; white-space: pre-wrap\;">Look for the blue Grays Harbor Stream Team tent where you will sign in and where coffee\, donuts\, snacks\, and water will be provided. There will also be gloves\, clippers and loppers for volunteers to use. </span>
LOCATION:pin Mill Creek Park 100-199 C St.\, Cosmopolis\, Washington 98537
UID:e.26.12042
SEQUENCE:3
DTSTAMP:20260424T132625Z
URL:https://chamber.graysharbor.org/events/details/mill-creek-park-work-party-12042
END:VEVENT

END:VCALENDAR
