BEGIN:VCALENDAR
VERSION:2.0
PRODID:-//ChamberMaster//Event Calendar 2.0//EN
METHOD:PUBLISH
X-PUBLISHED-TTL:P3D
REFRESH-INTERVAL:P3D
CALSCALE:GREGORIAN
BEGIN:VEVENT
DTSTART:20180121T030000Z
DTEND:20180121T040000Z
X-MICROSOFT-CDO-ALLDAYEVENT:FALSE
SUMMARY:Miss Grays Harbor/Outstanding Teen Annual Dessert Auction
DESCRIPTION:Fundraiser for Miss Grays Harbor/Outstanding Teen scholarships. Tickets are $5.00 and can be purchased from any miss or teen contestant\, staff member or board member or at the door.
X-ALT-DESC;FMTTYPE=text/html:<span style="color: rgb(75\, 79\, 86)\; font-family: Helvetica\, Arial\, sans-serif\; font-size: 14px\; background-color: rgb(255\, 255\, 255)\;">Fundraiser for Miss Grays Harbor/Outstanding Teen scholarships. Tickets are $5.00 and can be purchased from any miss or teen contestant\, staff member or board member or at the door.</span>
LOCATION:Hoquiam Elks 624 K St.
UID:e.26.9448
SEQUENCE:3
DTSTAMP:20260425T150138Z
URL:https://chamber.graysharbor.org/events/details/miss-grays-harbor-outstanding-teen-annual-dessert-auction-9448
END:VEVENT

END:VCALENDAR
