BEGIN:VCALENDAR
VERSION:2.0
PRODID:-//ChamberMaster//Event Calendar 2.0//EN
METHOD:PUBLISH
X-PUBLISHED-TTL:P3D
REFRESH-INTERVAL:P3D
CALSCALE:GREGORIAN
BEGIN:VEVENT
DTSTART:20200126T020000Z
DTEND:20200126T050000Z
X-MICROSOFT-CDO-ALLDAYEVENT:FALSE
SUMMARY:Miss Grays Harbor/Outstanding Teen Dessert Auction
DESCRIPTION:Dessert Auction and fundraiser. Wonderful desserts created by our candidates for Miss Grays Harbor/Outstanding Teen. Appetizers and punch included. We will crown our Raindrop princesses and introduce the candidates. Tickets are $5.00 and available from candidates or at the door.
X-ALT-DESC;FMTTYPE=text/html:<span style="caret-color: rgb(29\, 33\, 41)\; color: rgb(29\, 33\, 41)\; font-family: system-ui\, -apple-system\, BlinkMacSystemFont\, &quot\;.SFNSText-Regular&quot\;\, sans-serif\; font-size: 14px\; white-space: pre-wrap\;">Dessert Auction and fundraiser. Wonderful desserts created by our candidates for Miss Grays Harbor/Outstanding Teen. Appetizers and punch included. We will crown our Raindrop princesses and introduce the candidates. Tickets are $5.00 and available from candidates or at the door.</span>
LOCATION:pin Hoquiam Elks Lodge #1082 624 K St\, Hoquiam\, Washington 98550
UID:e.26.12344
SEQUENCE:3
DTSTAMP:20260424T042457Z
URL:https://chamber.graysharbor.org/events/details/miss-grays-harbor-outstanding-teen-dessert-auction-12344
END:VEVENT

END:VCALENDAR
