BEGIN:VCALENDAR
VERSION:2.0
PRODID:-//ChamberMaster//Event Calendar 2.0//EN
METHOD:PUBLISH
X-PUBLISHED-TTL:P3D
REFRESH-INTERVAL:P3D
CALSCALE:GREGORIAN
BEGIN:VEVENT
DTSTART:20190224T030000Z
DTEND:20190224T060000Z
X-MICROSOFT-CDO-ALLDAYEVENT:FALSE
SUMMARY:Miss Grays Harbor & Outstanding Teen Pageant
DESCRIPTION:Tickets are $25 for general seating and $35 for Golden Circle seating.\n\nTickets are available at Harbor Drug\, online\, from Contestants and Miss Grays Harbor Staff and at the door.\n\nThis is the first step for girls between 13   17 in the Miss Outstanding Teen or 18   23 in the Miss to Miss America. The Miss America organization is the largest scholarship provider for women in America.
X-ALT-DESC;FMTTYPE=text/html:<span style="caret-color: rgb(29\, 33\, 41)\; color: rgb(29\, 33\, 41)\; font-family: system-ui\, -apple-system\, BlinkMacSystemFont\, &quot\;.SFNSText-Regular&quot\;\, sans-serif\; font-size: 14px\; white-space: pre-wrap\;">Tickets are $25 for general seating and $35 for Golden Circle seating.</span><br style="caret-color: rgb(29\, 33\, 41)\; color: rgb(29\, 33\, 41)\; font-family: system-ui\, -apple-system\, BlinkMacSystemFont\, &quot\;.SFNSText-Regular&quot\;\, sans-serif\; font-size: 14px\; white-space: pre-wrap\;" />\n<span style="caret-color: rgb(29\, 33\, 41)\; color: rgb(29\, 33\, 41)\; font-family: system-ui\, -apple-system\, BlinkMacSystemFont\, &quot\;.SFNSText-Regular&quot\;\, sans-serif\; font-size: 14px\; white-space: pre-wrap\;">Tickets are available at Harbor Drug\, online\, from Contestants and Miss Grays Harbor Staff and at the door.</span><br style="caret-color: rgb(29\, 33\, 41)\; color: rgb(29\, 33\, 41)\; font-family: system-ui\, -apple-system\, BlinkMacSystemFont\, &quot\;.SFNSText-Regular&quot\;\, sans-serif\; font-size: 14px\; white-space: pre-wrap\;" />\n<span style="caret-color: rgb(29\, 33\, 41)\; color: rgb(29\, 33\, 41)\; font-family: system-ui\, -apple-system\, BlinkMacSystemFont\, &quot\;.SFNSText-Regular&quot\;\, sans-serif\; font-size: 14px\; white-space: pre-wrap\;">This is the first step for girls between 13 &ndash\; 17 in the Miss Outstanding Teen or 18 &ndash\; 23 in the Miss to Miss America. The Miss America organization is the largest scholarship provider for women in America. </span>
LOCATION:7th Street Theatre Hoquiam\, WA
UID:e.26.11760
SEQUENCE:3
DTSTAMP:20260424T181912Z
URL:https://chamber.graysharbor.org/events/details/miss-grays-harbor-outstanding-teen-pageant-11760
END:VEVENT

END:VCALENDAR
