BEGIN:VCALENDAR
VERSION:2.0
PRODID:-//ChamberMaster//Event Calendar 2.0//EN
METHOD:PUBLISH
X-PUBLISHED-TTL:P3D
REFRESH-INTERVAL:P3D
CALSCALE:GREGORIAN
BEGIN:VEVENT
DTSTART:20180225T030000Z
DTEND:20180225T060000Z
X-MICROSOFT-CDO-ALLDAYEVENT:FALSE
SUMMARY:Miss Grays Harbor/Outstanding Teen Pageant
DESCRIPTION:Come join us for an evening of pageantry. Watch these 16 amazing you women compete for the title of Miss Grays Harbor and Miss Grays Harbors Outstanding Teen. Tickets available from Harbor Drug\, staff members\, contestants\, Raindrop Princesses\, on line at brown paper tickets or at the door for $20 each
X-ALT-DESC;FMTTYPE=text/html:<span style="color: rgb(75\, 79\, 86)\; font-family: Helvetica\, Arial\, sans-serif\; font-size: 14px\; background-color: rgb(255\, 255\, 255)\;">Come join us for an evening of pageantry. Watch these 16 amazing you women compete for the title of Miss Grays Harbor and Miss Grays Harbors Outstanding Teen. Tickets available from Harbor Drug\, staff members\, contestants\, Raindrop Princesses\, on line at brown paper tickets or at the door for $20 each</span>
LOCATION:7th St. Theatre Hoquiam\, WA
UID:e.26.9478
SEQUENCE:3
DTSTAMP:20260425T150117Z
URL:https://chamber.graysharbor.org/events/details/miss-grays-harbor-outstanding-teen-pageant-9478
END:VEVENT

END:VCALENDAR
