BEGIN:VCALENDAR
VERSION:2.0
PRODID:-//ChamberMaster//Event Calendar 2.0//EN
METHOD:PUBLISH
X-PUBLISHED-TTL:P3D
REFRESH-INTERVAL:P3D
CALSCALE:GREGORIAN
BEGIN:VEVENT
DTSTART:20180814T213000Z
DTEND:20180815T003000Z
X-MICROSOFT-CDO-ALLDAYEVENT:FALSE
SUMMARY:Mobile Escape Room: Escape from AzkaVan
DESCRIPTION:Check in with the Aberdeen Youth desk and register starting July 31. Teens middle & high school - An innocent person has been imprisoned in the AzkaVan! Race against the clock to free them by unlocking clues and solving puzzles. This event is part of the Summer Library Program\, a Timberland Regional Library district-wide program.
X-ALT-DESC;FMTTYPE=text/html:<span style="color: rgb(29\, 33\, 41)\; font-family: Helvetica\, Arial\, sans-serif\; font-size: 14px\; background-color: rgb(255\, 255\, 255)\;">Check in with the Aberdeen Youth desk and register starting July 31. Teens middle &amp\; high school - An innocent person has been imprisoned in the AzkaVan! Race against the clock to free them by unlocking clues and solving puzzles. This event is part of the Summer Library Program\, a Timberland Regional Library district-wide program.</span>
LOCATION:pin Aberdeen Timberland Library 121 E Market St\, Aberdeen\, Washington 98520
UID:e.26.11167
SEQUENCE:3
DTSTAMP:20260425T032744Z
URL:https://chamber.graysharbor.org/events/details/mobile-escape-room-escape-from-azkavan-11167
END:VEVENT

END:VCALENDAR
